Index of /checkResults/devel/bioc-LATEST/RandomWalkRestartMH/raw-results/kjohnson1
Name
Last modified
Size
Description
Parent Directory
-
buildsrc-out.txt
12-Jun-2024 04:43
947
buildsrc-summary.dcf
12-Jun-2024 04:43
366
install-out.txt
12-Jun-2024 04:43
726
install-summary.dcf
12-Jun-2024 04:43
295