Name | Last modified | Size | Description | |
---|---|---|---|---|
Parent Directory | - | |||
install-summary.dcf | 29-Mar-2024 00:41 | 286 | ||
buildsrc-summary.dcf | 29-Mar-2024 00:41 | 453 | ||
checksrc-summary.dcf | 29-Mar-2024 00:41 | 483 | ||
buildsrc-out.txt | 29-Mar-2024 00:41 | 851 | ||
install-out.txt | 29-Mar-2024 00:41 | 1.0K | ||
checksrc-out.txt | 29-Mar-2024 00:41 | 3.2K | ||