Back to Multiple platform build/check report for BioC 3.14
ABCDEFGHIJKLMNOPQ[R]STUVWXYZ

This page was generated on 2021-10-22 12:04:42 -0400 (Fri, 22 Oct 2021).

BUILD BIN results for RUVSeq on riesling1

To the developers/maintainers of the RUVSeq package:
- Please allow up to 24 hours (and sometimes 48 hours) for your latest push to git@git.bioconductor.org:packages/RUVSeq.git to
reflect on this report. See How and When does the builder pull? When will my changes propagate? here for more information.
- Make sure to use the following settings in order to reproduce any error or warning you see on this page.

raw results

Package 1675/2075HostnameOS / ArchINSTALLBUILDCHECKBUILD BIN
RUVSeq 1.27.0  (landing page)
Davide Risso
Snapshot Date: 2021-10-21 14:50:08 -0400 (Thu, 21 Oct 2021)
git_url: https://git.bioconductor.org/packages/RUVSeq
git_branch: master
git_last_commit: ef0d7f0
git_last_commit_date: 2021-05-19 12:05:29 -0400 (Wed, 19 May 2021)
nebbiolo2Linux (Ubuntu 20.04.2 LTS) / x86_64  OK    OK    OK  UNNEEDED, same version is already published
riesling1Windows Server 2019 Standard / x64  OK    OK    OK    OK  UNNEEDED, same version is already published
merida1macOS 10.14.6 Mojave / x86_64  OK    OK    OK    NA  

Summary

Package: RUVSeq
Version: 1.27.0
Command: rm -rf RUVSeq.buildbin-libdir && mkdir RUVSeq.buildbin-libdir && D:\biocbuild\bbs-3.14-bioc\R\bin\R.exe CMD INSTALL --merge-multiarch --build --library=RUVSeq.buildbin-libdir RUVSeq_1.27.0.tar.gz
StartedAt: 2021-10-22 07:31:43 -0400 (Fri, 22 Oct 2021)
EndedAt: 2021-10-22 07:36:36 -0400 (Fri, 22 Oct 2021)
EllapsedTime: 292.7 seconds
RetCode: 0
Status:   OK  
PackageFile: RUVSeq_1.27.0.zip
PackageFileSize: 201.8 KiB

Command output

##############################################################################
##############################################################################
###
### Running command:
###
###   rm -rf RUVSeq.buildbin-libdir && mkdir RUVSeq.buildbin-libdir && D:\biocbuild\bbs-3.14-bioc\R\bin\R.exe CMD INSTALL --merge-multiarch --build --library=RUVSeq.buildbin-libdir RUVSeq_1.27.0.tar.gz
###
##############################################################################
##############################################################################



install for i386

* installing *source* package 'RUVSeq' ...
** using staged installation
** R
** inst
** byte-compile and prepare package for lazy loading
** help
*** installing help indices
  converting help for package 'RUVSeq'
    finding HTML links ... done
    RUVSeq-package                          html  
    RUVg                                    html  
    finding level-2 HTML links ... done

    RUVr                                    html  
    RUVs                                    html  
    makeGroups                              html  
    residuals.DGEGLM                        html  
** building package indices
** installing vignettes
** testing if installed package can be loaded from temporary location
** testing if installed package can be loaded from final location
** testing if installed package keeps a record of temporary installation path

install for x64

* installing *source* package 'RUVSeq' ...
** testing if installed package can be loaded
* MD5 sums
packaged installation of 'RUVSeq' as RUVSeq_1.27.0.zip
* DONE (RUVSeq)