Index of /checkResults/devel/bioc-LATEST/RUVSeq/raw-results/nebbiolo1

[ICO]NameLast modifiedSizeDescription

[DIR]Parent Directory  -  
[TXT]buildsrc-out.txt27-Jan-2022 01:06 802  
[   ]buildsrc-summary.dcf27-Jan-2022 01:06 414  
[TXT]checksrc-out.txt27-Jan-2022 01:06 3.3K 
[   ]checksrc-summary.dcf27-Jan-2022 01:06 420  
[TXT]install-out.txt27-Jan-2022 01:06 944  
[   ]install-summary.dcf27-Jan-2022 01:06 257