![]() | Name | Last modified | Size | Description |
---|---|---|---|---|
![]() | Parent Directory | - | ||
![]() | buildsrc-out.txt | 30-Sep-2023 01:06 | 796 | |
![]() | buildsrc-summary.dcf | 30-Sep-2023 01:06 | 409 | |
![]() | checksrc-out.txt | 30-Sep-2023 01:06 | 4.9K | |
![]() | checksrc-summary.dcf | 30-Sep-2023 01:06 | 402 | |
![]() | install-out.txt | 30-Sep-2023 01:06 | 937 | |
![]() | install-summary.dcf | 30-Sep-2023 01:06 | 251 | |