Name | Last modified | Size | Description | |
---|---|---|---|---|
Parent Directory | - | |||
buildbin-out.txt | 17-Jul-2024 00:41 | 1.1K | ||
buildbin-summary.dcf | 17-Jul-2024 00:41 | 551 | ||
buildsrc-out.txt | 17-Jul-2024 00:41 | 930 | ||
buildsrc-summary.dcf | 17-Jul-2024 00:41 | 477 | ||
checksrc-out.txt | 17-Jul-2024 00:41 | 3.5K | ||
checksrc-summary.dcf | 17-Jul-2024 00:41 | 479 | ||
install-out.txt | 17-Jul-2024 00:41 | 1.0K | ||
install-summary.dcf | 17-Jul-2024 00:41 | 284 | ||