Name | Last modified | Size | Description | |
---|---|---|---|---|
Parent Directory | - | |||
checksrc-summary.dcf | 28-Jul-2024 00:39 | 406 | ||
checksrc-out.txt | 28-Jul-2024 00:39 | 4.5K | ||
buildsrc-summary.dcf | 28-Jul-2024 00:39 | 417 | ||
buildsrc-out.txt | 28-Jul-2024 00:39 | 862 | ||
install-summary.dcf | 28-Jul-2024 00:39 | 254 | ||
install-out.txt | 28-Jul-2024 00:39 | 938 | ||