Name | Last modified | Size | Description | |
---|---|---|---|---|
Parent Directory | - | |||
buildbin-summary.dcf | 28-Jul-2024 00:41 | 518 | ||
buildbin-out.txt | 28-Jul-2024 00:41 | 1.1K | ||
checksrc-summary.dcf | 28-Jul-2024 00:41 | 436 | ||
checksrc-out.txt | 28-Jul-2024 00:41 | 4.6K | ||
buildsrc-out.txt | 28-Jul-2024 00:41 | 848 | ||
buildsrc-summary.dcf | 28-Jul-2024 00:41 | 421 | ||
install-summary.dcf | 28-Jul-2024 00:41 | 265 | ||
install-out.txt | 28-Jul-2024 00:41 | 1.0K | ||