Index of /checkResults/devel/bioc-LATEST/RTCGA/raw-results/kunpeng2

[ICO]NameLast modifiedSizeDescription

[DIR]Parent Directory  -  
[   ]install-summary.dcf02-Mar-2024 01:40 267  
[   ]buildsrc-summary.dcf02-Mar-2024 01:40 423  
[   ]checksrc-summary.dcf02-Mar-2024 01:40 445  
[TXT]buildsrc-out.txt02-Mar-2024 01:40 850  
[TXT]install-out.txt02-Mar-2024 01:40 962  
[TXT]checksrc-out.txt02-Mar-2024 01:40 4.7K