Back to Multiple platform build/check report for BioC 3.15
ABCDEFGHIJKLMNOPQ[R]STUVWXYZ

This page was generated on 2022-01-24 11:08:18 -0500 (Mon, 24 Jan 2022).

HostnameOSArch (*)R versionInstalled pkgs
nebbiolo1Linux (Ubuntu 20.04.4 LTS)x86_64R Under development (unstable) (2022-01-05 r81451) -- "Unsuffered Consequences" 4163
riesling1Windows Server 2019 Standardx64R Under development (unstable) (2021-11-21 r81221) -- "Unsuffered Consequences" 4058
palomino3Windows Server 2022 Datacenterx64R Under development (unstable) (2021-12-21 r81400 ucrt) -- "Unsuffered Consequences" 4000
merida1macOS 10.14.6 Mojavex86_64R Under development (unstable) (2022-01-05 r81451) -- "Unsuffered Consequences" 4117
Click on any hostname to see more info about the system (e.g. compilers)      (*) as reported by 'uname -p', except on Windows and Mac OS X

CHECK results for RSVSim on riesling1


To the developers/maintainers of the RSVSim package:
- Please allow up to 24 hours (and sometimes 48 hours) for your latest push to git@git.bioconductor.org:packages/RSVSim.git to
reflect on this report. See How and When does the builder pull? When will my changes propagate? here for more information.
- Make sure to use the following settings in order to reproduce any error or warning you see on this page.

raw results

Package 1660/2075HostnameOS / ArchINSTALLBUILDCHECKBUILD BIN
RSVSim 1.35.1  (landing page)
Christoph Bartenhagen
Snapshot Date: 2022-01-23 13:55:15 -0500 (Sun, 23 Jan 2022)
git_url: https://git.bioconductor.org/packages/RSVSim
git_branch: master
git_last_commit: 818db30
git_last_commit_date: 2021-11-21 00:50:37 -0500 (Sun, 21 Nov 2021)
nebbiolo1Linux (Ubuntu 20.04.4 LTS) / x86_64  OK    OK    OK  UNNEEDED, same version is already published
riesling1Windows Server 2019 Standard / x64  OK    OK    OK    OK  
palomino3Windows Server 2022 Datacenter / x64  OK    OK    OK    OK  NO, package depends on 'Biostrings' which is not available
merida1macOS 10.14.6 Mojave / x86_64  OK    OK    OK    OK  UNNEEDED, same version is already published

Summary

Package: RSVSim
Version: 1.35.1
Command: D:\biocbuild\bbs-3.15-bioc\R\bin\R.exe CMD check --no-multiarch --install=check:RSVSim.install-out.txt --library=D:\biocbuild\bbs-3.15-bioc\R\library --no-vignettes --timings RSVSim_1.35.1.tar.gz
StartedAt: 2022-01-23 19:58:30 -0500 (Sun, 23 Jan 2022)
EndedAt: 2022-01-23 20:01:11 -0500 (Sun, 23 Jan 2022)
EllapsedTime: 160.8 seconds
RetCode: 0
Status:   OK  
CheckDir: RSVSim.Rcheck
Warnings: 0

Command output

##############################################################################
##############################################################################
###
### Running command:
###
###   D:\biocbuild\bbs-3.15-bioc\R\bin\R.exe CMD check --no-multiarch --install=check:RSVSim.install-out.txt --library=D:\biocbuild\bbs-3.15-bioc\R\library --no-vignettes --timings RSVSim_1.35.1.tar.gz
###
##############################################################################
##############################################################################


* using log directory 'D:/biocbuild/bbs-3.15-bioc/meat/RSVSim.Rcheck'
* using R Under development (unstable) (2021-11-21 r81221)
* using platform: x86_64-w64-mingw32 (64-bit)
* using session charset: ISO8859-1
* using option '--no-vignettes'
* checking for file 'RSVSim/DESCRIPTION' ... OK
* checking extension type ... Package
* this is package 'RSVSim' version '1.35.1'
* checking package namespace information ... OK
* checking package dependencies ... OK
* checking if this is a source package ... OK
* checking if there is a namespace ... OK
* checking for hidden files and directories ... OK
* checking for portable file names ... OK
* checking whether package 'RSVSim' can be installed ... OK
* checking installed package size ... OK
* checking package directory ... OK
* checking 'build' directory ... OK
* checking DESCRIPTION meta-information ... OK
* checking top-level files ... OK
* checking for left-over files ... OK
* checking index information ... OK
* checking package subdirectories ... OK
* checking R files for non-ASCII characters ... OK
* checking R files for syntax errors ... OK
* checking whether the package can be loaded ... OK
* checking whether the package can be loaded with stated dependencies ... OK
* checking whether the package can be unloaded cleanly ... OK
* checking whether the namespace can be loaded with stated dependencies ... OK
* checking whether the namespace can be unloaded cleanly ... OK
* checking dependencies in R code ... NOTE
'library' or 'require' calls in package code:
  'BSgenome.Hsapiens.UCSC.hg19' 'BSgenome.Hsapiens.UCSC.hg19.masked'
  'MASS' 'rtracklayer'
  Please use :: or requireNamespace() instead.
  See section 'Suggested packages' in the 'Writing R Extensions' manual.
Namespace in Imports field not imported from: 'methods'
  All declared Imports should be used.
* checking S3 generic/method consistency ... OK
* checking replacement functions ... OK
* checking foreign function calls ... OK
* checking R code for possible problems ... NOTE
.drawPos: no visible global function definition for 'seqlevels'
.drawPos: no visible global function definition for 'queryHits'
.getHG19: no visible binding for global variable
  'BSgenome.Hsapiens.UCSC.hg19.masked'
.getHG19: no visible binding for global variable 'Hsapiens'
.getHG19: no visible global function definition for 'as'
.getSVSizes: no visible global function definition for 'rbeta'
.loadFromBSGenome_TandemRepeats: no visible binding for global variable
  'BSgenome.Hsapiens.UCSC.hg19.masked'
.loadFromBSGenome_TandemRepeats: no visible global function definition
  for 'seqlevels<-'
.loadFromBSGenome_TandemRepeats: no visible global function definition
  for 'as'
.loadFromUCSC_RepeatMasks: no visible global function definition for
  'browserSession'
.loadFromUCSC_RepeatMasks: no visible global function definition for
  'genome<-'
.loadFromUCSC_RepeatMasks: no visible global function definition for
  'ucscTableQuery'
.loadFromUCSC_RepeatMasks: no visible global function definition for
  'txtProgressBar'
.loadFromUCSC_RepeatMasks: no visible global function definition for
  'range<-'
.loadFromUCSC_RepeatMasks: no visible global function definition for
  'getTable'
.loadFromUCSC_RepeatMasks: no visible global function definition for
  'setTxtProgressBar'
.loadFromUCSC_RepeatMasks: no visible global function definition for
  'data'
.loadFromUCSC_SegDups: no visible global function definition for
  'browserSession'
.loadFromUCSC_SegDups: no visible global function definition for
  'genome<-'
.loadFromUCSC_SegDups: no visible global function definition for
  'getTable'
.loadFromUCSC_SegDups: no visible global function definition for
  'ucscTableQuery'
.readRepeatMaskerOutput: no visible global function definition for
  'read.table'
.readRepeatMaskerOutput: no visible global function definition for
  'data'
.simInsertionPositions: no visible global function definition for
  'txtProgressBar'
.simInsertionPositions: no visible global function definition for
  'seqlevels'
.simInsertionPositions: no visible global function definition for
  'setTxtProgressBar'
.simPositions: no visible global function definition for
  'txtProgressBar'
.simPositions: no visible global function definition for
  'setTxtProgressBar'
.simTranslocationPositions: no visible global function definition for
  'txtProgressBar'
.simTranslocationPositions: no visible global function definition for
  'seqlevels'
.simTranslocationPositions: no visible global function definition for
  'setTxtProgressBar'
.subtractIntervals: no visible global function definition for
  'seqlevels<-'
.testSVSim: no visible global function definition for 'metadata'
compareSV,character-character: no visible global function definition
  for 'read.table'
compareSV,character-data.frame: no visible global function definition
  for 'read.table'
estimateSVSizes,numeric-numeric-ANY-ANY-missing: no visible global
  function definition for 'fitdistr'
simulateSV,ANY: no visible global function definition for 'data'
simulateSV,ANY: no visible global function definition for
  'txtProgressBar'
simulateSV,ANY: no visible global function definition for
  'setTxtProgressBar'
simulateSV,ANY: no visible global function definition for 'write.table'
simulateSV,ANY: no visible global function definition for 'metadata<-'
Undefined global functions or variables:
  BSgenome.Hsapiens.UCSC.hg19.masked Hsapiens as browserSession data
  fitdistr genome<- getTable metadata metadata<- queryHits range<-
  rbeta read.table seqlevels seqlevels<- setTxtProgressBar
  txtProgressBar ucscTableQuery write.table
Consider adding
  importFrom("methods", "as")
  importFrom("stats", "rbeta")
  importFrom("utils", "data", "read.table", "setTxtProgressBar",
             "txtProgressBar", "write.table")
to your NAMESPACE file (and ensure that your DESCRIPTION Imports field
contains 'methods').
* checking Rd files ... OK
* checking Rd metadata ... OK
* checking Rd cross-references ... OK
* checking for missing documentation entries ... OK
* checking for code/documentation mismatches ... OK
* checking Rd \usage sections ... OK
* checking Rd contents ... OK
* checking for unstated dependencies in examples ... OK
* checking contents of 'data' directory ... OK
* checking data for non-ASCII characters ... OK
* checking data for ASCII and uncompressed saves ... OK
* checking files in 'vignettes' ... OK
* checking examples ... OK
* checking for unstated dependencies in vignettes ... OK
* checking package vignettes in 'inst/doc' ... OK
* checking running R code from vignettes ... SKIPPED
* checking re-building of vignette outputs ... SKIPPED
* checking PDF version of manual ... OK
* DONE

Status: 2 NOTEs
See
  'D:/biocbuild/bbs-3.15-bioc/meat/RSVSim.Rcheck/00check.log'
for details.



Installation output

RSVSim.Rcheck/00install.out

##############################################################################
##############################################################################
###
### Running command:
###
###   D:\biocbuild\bbs-3.15-bioc\R\bin\R.exe CMD INSTALL RSVSim
###
##############################################################################
##############################################################################


* installing to library 'D:/biocbuild/bbs-3.15-bioc/R/library'
* installing *source* package 'RSVSim' ...
** using staged installation
** R
** data
** byte-compile and prepare package for lazy loading
** help
*** installing help indices
  converting help for package 'RSVSim'
    finding HTML links ... done
    compareSVs                              html  
    estimateSVSizes                         html  
    segmentalDuplications                   html  
    simulateSV                              html  
    weightsMechanisms                       html  
    weightsRepeats                          html  
** building package indices
** installing vignettes
** testing if installed package can be loaded from temporary location
** testing if installed package can be loaded from final location
** testing if installed package keeps a record of temporary installation path
* DONE (RSVSim)
Making 'packages.html' ...Warning in packageDescription(i, lib.loc = lib, fields = "Title", encoding = "UTF-8") :
  DESCRIPTION file of package 'ropls' is missing or broken
Warning in packageDescription(i, lib.loc = lib, fields = "Title", encoding = "UTF-8") :
  DESCRIPTION file of package 'SingleR' is missing or broken
 done

Tests output


Example timings

RSVSim.Rcheck/RSVSim-Ex.timings

nameusersystemelapsed
compareSVs2.050.122.18
estimateSVSizes0.290.020.31
segmentalDuplications0.080.000.08
simulateSV4.500.014.51
weightsMechanisms000
weightsRepeats0.000.020.02