Back to Multiple platform build/check report for BioC 3.19:   simplified   long
ABCDEFGHIJKLMNOPQ[R]STUVWXYZ

This page was generated on 2024-02-28 11:38:13 -0500 (Wed, 28 Feb 2024).

HostnameOSArch (*)R versionInstalled pkgs
nebbiolo1Linux (Ubuntu 22.04.3 LTS)x86_64R Under development (unstable) (2024-01-16 r85808) -- "Unsuffered Consequences" 4671
palomino3Windows Server 2022 Datacenterx64R Under development (unstable) (2024-01-14 r85805 ucrt) -- "Unsuffered Consequences" 4411
merida1macOS 12.7.1 Montereyx86_64R Under development (unstable) (2024-01-16 r85808) -- "Unsuffered Consequences" 4438
kunpeng2Linux (openEuler 22.03 LTS-SP1)aarch64R Under development (unstable) (2024-01-16 r85812) -- "Unsuffered Consequences" 4414
Click on any hostname to see more info about the system (e.g. compilers)      (*) as reported by 'uname -p', except on Windows and Mac OS X

Package 1787/2251HostnameOS / ArchINSTALLBUILDCHECKBUILD BIN
RRHO 1.43.0  (landing page)
Jonathan Rosenblatt
Snapshot Date: 2024-02-26 14:39:26 -0500 (Mon, 26 Feb 2024)
git_url: https://git.bioconductor.org/packages/RRHO
git_branch: devel
git_last_commit: 566e1f8
git_last_commit_date: 2023-10-24 09:55:09 -0500 (Tue, 24 Oct 2023)
nebbiolo1Linux (Ubuntu 22.04.3 LTS) / x86_64  OK    OK    OK  UNNEEDED, same version is already published
palomino3Windows Server 2022 Datacenter / x64  OK    OK    OK    OK  UNNEEDED, same version is already published
merida1macOS 12.7.1 Monterey / x86_64  OK    OK    OK    OK  UNNEEDED, same version is already published
kunpeng2Linux (openEuler 22.03 LTS-SP1) / aarch64  OK    OK    OK  

BUILD BIN results for RRHO on palomino3


To the developers/maintainers of the RRHO package:
- Allow up to 24 hours (and sometimes 48 hours) for your latest push to git@git.bioconductor.org:packages/RRHO.git to reflect on this report. See Troubleshooting Build Report for more information.
- Use the following Renviron settings to reproduce errors and warnings.
- If 'R CMD check' started to fail recently on the Linux builder(s) over a missing dependency, add the missing dependency to 'Suggests:' in your DESCRIPTION file. See Renviron.bioc for more information.

raw results


Summary

Package: RRHO
Version: 1.43.0
Command: rm -rf RRHO.buildbin-libdir && mkdir RRHO.buildbin-libdir && F:\biocbuild\bbs-3.19-bioc\R\bin\R.exe CMD INSTALL --build --library=RRHO.buildbin-libdir RRHO_1.43.0.tar.gz
StartedAt: 2024-02-27 13:30:47 -0500 (Tue, 27 Feb 2024)
EndedAt: 2024-02-27 13:30:53 -0500 (Tue, 27 Feb 2024)
EllapsedTime: 6.0 seconds
RetCode: 0
Status:   OK  
PackageFile: RRHO_1.43.0.zip
PackageFileSize: 596.1 KiB

Command output

##############################################################################
##############################################################################
###
### Running command:
###
###   rm -rf RRHO.buildbin-libdir && mkdir RRHO.buildbin-libdir && F:\biocbuild\bbs-3.19-bioc\R\bin\R.exe CMD INSTALL --build --library=RRHO.buildbin-libdir RRHO_1.43.0.tar.gz
###
##############################################################################
##############################################################################


* installing *source* package 'RRHO' ...
** using staged installation
** R
** data
** inst
** byte-compile and prepare package for lazy loading
** help
*** installing help indices
** building package indices
** installing vignettes
** testing if installed package can be loaded from temporary location
** testing if installed package can be loaded from final location
** testing if installed package keeps a record of temporary installation path
* MD5 sums
packaged installation of 'RRHO' as RRHO_1.43.0.zip
* DONE (RRHO)