Back to Multiple platform build/check report for BioC 3.16
ABCDEFGHIJKLMNOPQ[R]STUVWXYZ

This page was generated on 2022-06-24 11:07:07 -0400 (Fri, 24 Jun 2022).

HostnameOSArch (*)R versionInstalled pkgs
nebbiolo2Linux (Ubuntu 20.04.4 LTS)x86_644.2.0 Patched (2022-06-02 r82447) -- "Vigorous Calisthenics" 4331
palomino4Windows Server 2022 Datacenterx644.2.0 Patched (2022-06-02 r82447 ucrt) -- "Vigorous Calisthenics" 4136
lconwaymacOS 12.2.1 Montereyx86_644.2.0 Patched (2022-05-29 r82424) -- "Vigorous Calisthenics" 4147
Click on any hostname to see more info about the system (e.g. compilers)      (*) as reported by 'uname -p', except on Windows and Mac OS X

CHECK results for ROntoTools on palomino4


To the developers/maintainers of the ROntoTools package:
- Please allow up to 24 hours (and sometimes 48 hours) for your latest push to git@git.bioconductor.org:packages/ROntoTools.git to
reflect on this report. See How and When does the builder pull? When will my changes propagate? for more information.
- Make sure to use the following settings in order to reproduce any error or warning you see on this page.

raw results

Package 1671/2118HostnameOS / ArchINSTALLBUILDCHECKBUILD BIN
ROntoTools 2.25.0  (landing page)
Calin Voichita
Snapshot Date: 2022-06-23 14:00:04 -0400 (Thu, 23 Jun 2022)
git_url: https://git.bioconductor.org/packages/ROntoTools
git_branch: master
git_last_commit: 4d5d59a
git_last_commit_date: 2022-04-26 11:14:12 -0400 (Tue, 26 Apr 2022)
nebbiolo2Linux (Ubuntu 20.04.4 LTS) / x86_64  OK    OK    OK  UNNEEDED, same version is already published
palomino4Windows Server 2022 Datacenter / x64  OK    OK    OK    OK  UNNEEDED, same version is already published
lconwaymacOS 12.2.1 Monterey / x86_64  OK    OK    OK    OK  UNNEEDED, same version is already published

Summary

Package: ROntoTools
Version: 2.25.0
Command: F:\biocbuild\bbs-3.16-bioc\R\bin\R.exe CMD check --force-multiarch --install=check:ROntoTools.install-out.txt --library=F:\biocbuild\bbs-3.16-bioc\R\library --no-vignettes --timings ROntoTools_2.25.0.tar.gz
StartedAt: 2022-06-24 05:14:57 -0400 (Fri, 24 Jun 2022)
EndedAt: 2022-06-24 05:17:29 -0400 (Fri, 24 Jun 2022)
EllapsedTime: 151.7 seconds
RetCode: 0
Status:   OK  
CheckDir: ROntoTools.Rcheck
Warnings: 0

Command output

##############################################################################
##############################################################################
###
### Running command:
###
###   F:\biocbuild\bbs-3.16-bioc\R\bin\R.exe CMD check --force-multiarch --install=check:ROntoTools.install-out.txt --library=F:\biocbuild\bbs-3.16-bioc\R\library --no-vignettes --timings ROntoTools_2.25.0.tar.gz
###
##############################################################################
##############################################################################


* using log directory 'F:/biocbuild/bbs-3.16-bioc/meat/ROntoTools.Rcheck'
* using R version 4.2.0 Patched (2022-06-02 r82447 ucrt)
* using platform: x86_64-w64-mingw32 (64-bit)
* using session charset: UTF-8
* using option '--no-vignettes'
* checking for file 'ROntoTools/DESCRIPTION' ... OK
* checking extension type ... Package
* this is package 'ROntoTools' version '2.25.0'
* checking package namespace information ... OK
* checking package dependencies ... OK
* checking if this is a source package ... OK
* checking if there is a namespace ... OK
* checking for hidden files and directories ... OK
* checking for portable file names ... OK
* checking whether package 'ROntoTools' can be installed ... OK
* checking installed package size ... OK
* checking package directory ... OK
* checking 'build' directory ... OK
* checking DESCRIPTION meta-information ... OK
* checking top-level files ... OK
* checking for left-over files ... OK
* checking index information ... OK
* checking package subdirectories ... OK
* checking R files for non-ASCII characters ... OK
* checking R files for syntax errors ... OK
* checking whether the package can be loaded ... OK
* checking whether the package can be loaded with stated dependencies ... OK
* checking whether the package can be unloaded cleanly ... OK
* checking whether the namespace can be loaded with stated dependencies ... NOTE
Warning: no function found corresponding to methods exports from 'ROntoTools' for: 'Summary'

A namespace must be able to be loaded with just the base namespace
loaded: otherwise if the namespace gets loaded by a saved object, the
session will be unable to start.

Probably some imports need to be declared in the NAMESPACE file.
* checking whether the namespace can be unloaded cleanly ... OK
* checking dependencies in R code ... NOTE
Packages in Depends field not imported from:
  'Rgraphviz' 'methods'
  These packages need to be imported from (in the NAMESPACE file)
  for when this namespace is loaded but not attached.
* checking S3 generic/method consistency ... OK
* checking replacement functions ... OK
* checking foreign function calls ... OK
* checking R code for possible problems ... NOTE
KEGGpathway2Graph: no visible global function definition for 'is'
KEGGpathway2Graph: no visible global function definition for 'new'
compute.B: no visible global function definition for 'as'
compute.B_pDis: no visible global function definition for 'as'
compute.normalInv: no visible global function definition for 'pnorm'
compute.normalInv: no visible binding for global variable 'qnorm'
compute.pORA: no visible global function definition for 'phyper'
get.totalAccNorm: no visible global function definition for 'sd'
get.totalPertNorm: no visible global function definition for 'sd'
get.totalpDisNorm: no visible global function definition for 'sd'
graph2ftM: no visible global function definition for 'as'
keggPathwayGraphs: no visible global function definition for
  'txtProgressBar'
keggPathwayGraphs : <anonymous>: no visible global function definition
  for 'new'
keggPathwayGraphs : <anonymous>: no visible global function definition
  for 'setTxtProgressBar'
keggPathwayGraphs : <anonymous>: no visible global function definition
  for 'getTxtProgressBar'
loadKEGGpathwayDataREST: no visible global function definition for
  'txtProgressBar'
loadKEGGpathwayDataREST : <anonymous>: no visible global function
  definition for 'setTxtProgressBar'
loadKEGGpathwayDataREST : <anonymous>: no visible global function
  definition for 'getTxtProgressBar'
pDis.boot: no visible global function definition for 'new'
pDis.helper: no visible global function definition for 'txtProgressBar'
pDis.helper : <anonymous>: no visible global function definition for
  'setTxtProgressBar'
pDis.helper : <anonymous>: no visible global function definition for
  'getTxtProgressBar'
pDis.helper: no visible global function definition for 'new'
pe.boot: no visible global function definition for 'new'
peEdgeRenderInfo: no visible global function definition for
  'removedEdges'
peNodeRenderInfo: no visible global function definition for 'slot'
peNodeRenderInfo: no visible global function definition for
  'colorRampPalette'
pf.helper: no visible global function definition for 'txtProgressBar'
pf.helper : <anonymous>: no visible global function definition for
  'setTxtProgressBar'
pf.helper : <anonymous>: no visible global function definition for
  'getTxtProgressBar'
pf.helper: no visible global function definition for 'new'
subGraphByNodeType: no visible global function definition for 'new'
summary.pDisRes : <anonymous>: no visible global function definition
  for 'p.adjust'
summary.peRes : <anonymous>: no visible global function definition for
  'p.adjust'
plot,pePathway-character: no visible global function definition for
  'slot'
plot,pePathway-character: no visible global function definition for
  'abline'
plot,pePathway-character: no visible global function definition for
  'points'
plot,pePathway-character: no visible global function definition for
  'sd'
plot,pePathway-character: no visible global function definition for
  'density'
plot,peRes-character: no visible global function definition for
  'Summary'
plot,peRes-character: no visible global function definition for 'chull'
plot,peRes-character: no visible global function definition for
  'polygon'
plot,peRes-character: no visible global function definition for
  'points'
plot,peRes-character: no visible global function definition for 'text'
plot,peRes-character: no visible global function definition for
  'abline'
Undefined global functions or variables:
  Summary abline as chull colorRampPalette density getTxtProgressBar is
  new p.adjust phyper pnorm points polygon qnorm removedEdges sd
  setTxtProgressBar slot text txtProgressBar
Consider adding
  importFrom("grDevices", "chull", "colorRampPalette")
  importFrom("graphics", "abline", "points", "polygon", "text")
  importFrom("methods", "Summary", "as", "is", "new", "slot")
  importFrom("stats", "density", "p.adjust", "phyper", "pnorm", "qnorm",
             "sd")
  importFrom("utils", "getTxtProgressBar", "setTxtProgressBar",
             "txtProgressBar")
to your NAMESPACE file (and ensure that your DESCRIPTION Imports field
contains 'methods').
* checking Rd files ... OK
* checking Rd metadata ... OK
* checking Rd cross-references ... OK
* checking for missing documentation entries ... OK
* checking for code/documentation mismatches ... OK
* checking Rd \usage sections ... NOTE
S3 methods shown with full name in documentation object 'summary.pDisRes':
  'summary.pDisRes'

S3 methods shown with full name in documentation object 'summary.peRes':
  'summary.peRes'

The \usage entries for S3 methods should use the \method markup and not
their full name.
See chapter 'Writing R documentation files' in the 'Writing R
Extensions' manual.
* checking Rd contents ... OK
* checking for unstated dependencies in examples ... OK
* checking sizes of PDF files under 'inst/doc' ... OK
* checking files in 'vignettes' ... OK
* checking examples ... OK
Examples with CPU (user + system) or elapsed time > 5s
                       user system elapsed
plot.peRes-methods     7.33   0.03    7.36
peNodeRenderInfo       6.70   0.17    6.89
peEdgeRenderInfo       6.13   0.12    6.25
summary.pDisRes        5.71   0.11    5.81
summary.peRes          5.62   0.13    5.75
pDis                   5.66   0.06    5.72
pe                     5.51   0.16    5.67
plot.pePathway-methods 5.45   0.07    5.52
* checking for unstated dependencies in 'tests' ... OK
* checking tests ...
  Running 'runTests.R'
 OK
* checking for unstated dependencies in vignettes ... OK
* checking package vignettes in 'inst/doc' ... OK
* checking running R code from vignettes ... SKIPPED
* checking re-building of vignette outputs ... SKIPPED
* checking PDF version of manual ... OK
* DONE

Status: 4 NOTEs
See
  'F:/biocbuild/bbs-3.16-bioc/meat/ROntoTools.Rcheck/00check.log'
for details.



Installation output

ROntoTools.Rcheck/00install.out

##############################################################################
##############################################################################
###
### Running command:
###
###   C:\cygwin\bin\curl.exe -O http://155.52.207.166/BBS/3.16/bioc/src/contrib/ROntoTools_2.25.0.tar.gz && rm -rf ROntoTools.buildbin-libdir && mkdir ROntoTools.buildbin-libdir && F:\biocbuild\bbs-3.16-bioc\R\bin\R.exe CMD INSTALL --merge-multiarch --build --library=ROntoTools.buildbin-libdir ROntoTools_2.25.0.tar.gz && F:\biocbuild\bbs-3.16-bioc\R\bin\R.exe CMD INSTALL ROntoTools_2.25.0.zip && rm ROntoTools_2.25.0.tar.gz ROntoTools_2.25.0.zip
###
##############################################################################
##############################################################################


  % Total    % Received % Xferd  Average Speed   Time    Time     Time  Current
                                 Dload  Upload   Total   Spent    Left  Speed

  0     0    0     0    0     0      0      0 --:--:-- --:--:-- --:--:--     0
100 1147k  100 1147k    0     0  8130k      0 --:--:-- --:--:-- --:--:-- 8199k
only one architecture so ignoring '--merge-multiarch'
* installing *source* package 'ROntoTools' ...
** using staged installation
** R
** inst
** byte-compile and prepare package for lazy loading
** help
*** installing help indices
** building package indices
** installing vignettes
** testing if installed package can be loaded from temporary location
** testing if installed package can be loaded from final location
** testing if installed package keeps a record of temporary installation path
* MD5 sums
packaged installation of 'ROntoTools' as ROntoTools_2.25.0.zip
* DONE (ROntoTools)
* installing to library 'F:/biocbuild/bbs-3.16-bioc/R/library'
package 'ROntoTools' successfully unpacked and MD5 sums checked

Tests output

ROntoTools.Rcheck/tests/runTests.Rout


R version 4.2.0 Patched (2022-06-02 r82447 ucrt) -- "Vigorous Calisthenics"
Copyright (C) 2022 The R Foundation for Statistical Computing
Platform: x86_64-w64-mingw32/x64 (64-bit)

R is free software and comes with ABSOLUTELY NO WARRANTY.
You are welcome to redistribute it under certain conditions.
Type 'license()' or 'licence()' for distribution details.

R is a collaborative project with many contributors.
Type 'contributors()' for more information and
'citation()' on how to cite R or R packages in publications.

Type 'demo()' for some demos, 'help()' for on-line help, or
'help.start()' for an HTML browser interface to help.
Type 'q()' to quit R.

> BiocGenerics:::testPackage("ROntoTools")

Attaching package: 'BiocGenerics'

The following objects are masked from 'package:stats':

    IQR, mad, sd, var, xtabs

The following objects are masked from 'package:base':

    Filter, Find, Map, Position, Reduce, anyDuplicated, append,
    as.data.frame, basename, cbind, colnames, dirname, do.call,
    duplicated, eval, evalq, get, grep, grepl, intersect, is.unsorted,
    lapply, mapply, match, mget, order, paste, pmax, pmax.int, pmin,
    pmin.int, rank, rbind, rownames, sapply, setdiff, sort, table,
    tapply, union, unique, unsplit, which.max, which.min


Attaching package: 'KEGGgraph'

The following object is masked from 'package:graphics':

    plot

The following object is masked from 'package:base':

    plot

Using cached pathway data. Database info:
pathway          KEGG Pathway Database
path             Release 73.0+/01-03, Jan 15
                 Kanehisa Laboratories
                 343,170 entries
Default parameters detected. Using pre-parsed data.
Using cached pathway data. Database info:
pathway          KEGG Pathway Database
path             Release 73.0+/01-03, Jan 15
                 Kanehisa Laboratories
                 343,170 entries
Default parameters detected. Using pre-parsed data.
Using cached pathway data. Database info:
pathway          KEGG Pathway Database
path             Release 73.0+/01-03, Jan 15
                 Kanehisa Laboratories
                 343,170 entries
Default parameters detected. Using pre-parsed data.
Performing pathway analysis...

  |                                                                            
  |                                                                      |   0%
  |                                                                            
  |                                                                      |   1%
  |                                                                            
  |=                                                                     |   1%
  |                                                                            
  |=                                                                     |   2%
  |                                                                            
  |==                                                                    |   3%
  |                                                                            
  |===                                                                   |   4%
  |                                                                            
  |===                                                                   |   5%
  |                                                                            
  |====                                                                  |   5%
  |                                                                            
  |====                                                                  |   6%
  |                                                                            
  |=====                                                                 |   7%
  |                                                                            
  |======                                                                |   8%
  |                                                                            
  |======                                                                |   9%
  |                                                                            
  |=======                                                               |   9%
  |                                                                            
  |=======                                                               |  10%
  |                                                                            
  |========                                                              |  11%
  |                                                                            
  |========                                                              |  12%
  |                                                                            
  |=========                                                             |  13%
  |                                                                            
  |==========                                                            |  14%
  |                                                                            
  |==========                                                            |  15%
  |                                                                            
  |===========                                                           |  15%
  |                                                                            
  |===========                                                           |  16%
  |                                                                            
  |============                                                          |  17%
  |                                                                            
  |=============                                                         |  18%
  |                                                                            
  |=============                                                         |  19%
  |                                                                            
  |==============                                                        |  19%
  |                                                                            
  |==============                                                        |  20%
  |                                                                            
  |===============                                                       |  21%
  |                                                                            
  |================                                                      |  22%
  |                                                                            
  |================                                                      |  23%
  |                                                                            
  |=================                                                     |  24%
  |                                                                            
  |=================                                                     |  25%
  |                                                                            
  |==================                                                    |  26%
  |                                                                            
  |===================                                                   |  27%
  |                                                                            
  |===================                                                   |  28%
  |                                                                            
  |====================                                                  |  28%
  |                                                                            
  |====================                                                  |  29%
  |                                                                            
  |=====================                                                 |  30%
  |                                                                            
  |======================                                                |  31%
  |                                                                            
  |======================                                                |  32%
  |                                                                            
  |=======================                                               |  32%
  |                                                                            
  |=======================                                               |  33%
  |                                                                            
  |=======================                                               |  34%
  |                                                                            
  |========================                                              |  34%
  |                                                                            
  |========================                                              |  35%
  |                                                                            
  |=========================                                             |  36%
  |                                                                            
  |==========================                                            |  37%
  |                                                                            
  |==========================                                            |  38%
  |                                                                            
  |===========================                                           |  38%
  |                                                                            
  |===========================                                           |  39%
  |                                                                            
  |============================                                          |  40%
  |                                                                            
  |=============================                                         |  41%
  |                                                                            
  |=============================                                         |  42%
  |                                                                            
  |==============================                                        |  42%
  |                                                                            
  |==============================                                        |  43%
  |                                                                            
  |===============================                                       |  44%
  |                                                                            
  |===============================                                       |  45%
  |                                                                            
  |================================                                      |  46%
  |                                                                            
  |=================================                                     |  47%
  |                                                                            
  |=================================                                     |  48%
  |                                                                            
  |==================================                                    |  48%
  |                                                                            
  |==================================                                    |  49%
  |                                                                            
  |===================================                                   |  50%
  |                                                                            
  |====================================                                  |  51%
  |                                                                            
  |====================================                                  |  52%
  |                                                                            
  |=====================================                                 |  52%
  |                                                                            
  |=====================================                                 |  53%
  |                                                                            
  |======================================                                |  54%
  |                                                                            
  |=======================================                               |  55%
  |                                                                            
  |=======================================                               |  56%
  |                                                                            
  |========================================                              |  57%
  |                                                                            
  |========================================                              |  58%
  |                                                                            
  |=========================================                             |  58%
  |                                                                            
  |=========================================                             |  59%
  |                                                                            
  |==========================================                            |  60%
  |                                                                            
  |===========================================                           |  61%
  |                                                                            
  |===========================================                           |  62%
  |                                                                            
  |============================================                          |  62%
  |                                                                            
  |============================================                          |  63%
  |                                                                            
  |=============================================                         |  64%
  |                                                                            
  |==============================================                        |  65%
  |                                                                            
  |==============================================                        |  66%
  |                                                                            
  |===============================================                       |  66%
  |                                                                            
  |===============================================                       |  67%
  |                                                                            
  |===============================================                       |  68%
  |                                                                            
  |================================================                      |  68%
  |                                                                            
  |================================================                      |  69%
  |                                                                            
  |=================================================                     |  70%
  |                                                                            
  |==================================================                    |  71%
  |                                                                            
  |==================================================                    |  72%
  |                                                                            
  |===================================================                   |  72%
  |                                                                            
  |===================================================                   |  73%
  |                                                                            
  |====================================================                  |  74%
  |                                                                            
  |=====================================================                 |  75%
  |                                                                            
  |=====================================================                 |  76%
  |                                                                            
  |======================================================                |  77%
  |                                                                            
  |======================================================                |  78%
  |                                                                            
  |=======================================================               |  79%
  |                                                                            
  |========================================================              |  80%
  |                                                                            
  |========================================================              |  81%
  |                                                                            
  |=========================================================             |  81%
  |                                                                            
  |=========================================================             |  82%
  |                                                                            
  |==========================================================            |  83%
  |                                                                            
  |===========================================================           |  84%
  |                                                                            
  |===========================================================           |  85%
  |                                                                            
  |============================================================          |  85%
  |                                                                            
  |============================================================          |  86%
  |                                                                            
  |=============================================================         |  87%
  |                                                                            
  |==============================================================        |  88%
  |                                                                            
  |==============================================================        |  89%
  |                                                                            
  |===============================================================       |  90%
  |                                                                            
  |===============================================================       |  91%
  |                                                                            
  |================================================================      |  91%
  |                                                                            
  |================================================================      |  92%
  |                                                                            
  |=================================================================     |  93%
  |                                                                            
  |==================================================================    |  94%
  |                                                                            
  |==================================================================    |  95%
  |                                                                            
  |===================================================================   |  95%
  |                                                                            
  |===================================================================   |  96%
  |                                                                            
  |====================================================================  |  97%
  |                                                                            
  |===================================================================== |  98%
  |                                                                            
  |===================================================================== |  99%
  |                                                                            
  |======================================================================|  99%
  |                                                                            
  |======================================================================| 100%Analysis completed in 4.212479 secs.


RUNIT TEST PROTOCOL -- Fri Jun 24 05:17:17 2022 
*********************************************** 
Number of test functions: 6 
Number of errors: 0 
Number of failures: 0 

 
1 Test Suite : 
ROntoTools RUnit Tests - 6 test functions, 0 errors, 0 failures
Number of test functions: 6 
Number of errors: 0 
Number of failures: 0 
> 
> proc.time()
   user  system elapsed 
  11.78    0.62   12.40 

Example timings

ROntoTools.Rcheck/ROntoTools-Ex.timings

nameusersystemelapsed
alpha1MR0.020.000.02
alphaMLG0.010.000.02
compute.fisher000
compute.normalInv000
keggPathwayGraphs0.410.000.42
keggPathwayNames0.330.000.33
nodeWeights000
pDis5.660.065.72
pe5.510.165.67
peEdgeRenderInfo6.130.126.25
peNodeRenderInfo6.700.176.89
plot.pePathway-methods5.450.075.52
plot.peRes-methods7.330.037.36
setEdgeWeights1.660.081.73
setNodeWeights0.320.010.35
summary.pDisRes5.710.115.81
summary.peRes5.620.135.75