Back to Multiple platform build/check report for BioC 3.14
ABCDEFGHIJKLMNOPQ[R]STUVWXYZ

This page was generated on 2021-10-22 12:04:42 -0400 (Fri, 22 Oct 2021).

INSTALL results for ROSeq on riesling1

To the developers/maintainers of the ROSeq package:
- Please allow up to 24 hours (and sometimes 48 hours) for your latest push to git@git.bioconductor.org:packages/ROSeq.git to
reflect on this report. See How and When does the builder pull? When will my changes propagate? here for more information.
- Make sure to use the following settings in order to reproduce any error or warning you see on this page.

raw results

Package 1640/2075HostnameOS / ArchINSTALLBUILDCHECKBUILD BIN
ROSeq 1.5.0  (landing page)
Krishan Gupta
Snapshot Date: 2021-10-21 14:50:08 -0400 (Thu, 21 Oct 2021)
git_url: https://git.bioconductor.org/packages/ROSeq
git_branch: master
git_last_commit: a291781
git_last_commit_date: 2021-05-19 12:51:57 -0400 (Wed, 19 May 2021)
nebbiolo2Linux (Ubuntu 20.04.2 LTS) / x86_64  OK    OK    WARNINGS  UNNEEDED, same version is already published
riesling1Windows Server 2019 Standard / x64  OK    OK    WARNINGS    OK  UNNEEDED, same version is already published
merida1macOS 10.14.6 Mojave / x86_64  OK    OK    WARNINGS    NA  

Summary

Package: ROSeq
Version: 1.5.0
Command: C:\cygwin\bin\curl.exe -O http://155.52.207.166/BBS/3.14/bioc/src/contrib/ROSeq_1.5.0.tar.gz && rm -rf ROSeq.buildbin-libdir && mkdir ROSeq.buildbin-libdir && D:\biocbuild\bbs-3.14-bioc\R\bin\R.exe CMD INSTALL --merge-multiarch --build --library=ROSeq.buildbin-libdir ROSeq_1.5.0.tar.gz && D:\biocbuild\bbs-3.14-bioc\R\bin\R.exe CMD INSTALL ROSeq_1.5.0.zip && rm ROSeq_1.5.0.tar.gz ROSeq_1.5.0.zip
StartedAt: 2021-10-21 16:41:11 -0400 (Thu, 21 Oct 2021)
EndedAt: 2021-10-21 16:44:22 -0400 (Thu, 21 Oct 2021)
EllapsedTime: 190.6 seconds
RetCode: 0
Status:   OK  

Command output

##############################################################################
##############################################################################
###
### Running command:
###
###   C:\cygwin\bin\curl.exe -O http://155.52.207.166/BBS/3.14/bioc/src/contrib/ROSeq_1.5.0.tar.gz && rm -rf ROSeq.buildbin-libdir && mkdir ROSeq.buildbin-libdir && D:\biocbuild\bbs-3.14-bioc\R\bin\R.exe CMD INSTALL --merge-multiarch --build --library=ROSeq.buildbin-libdir ROSeq_1.5.0.tar.gz && D:\biocbuild\bbs-3.14-bioc\R\bin\R.exe CMD INSTALL ROSeq_1.5.0.zip && rm ROSeq_1.5.0.tar.gz ROSeq_1.5.0.zip
###
##############################################################################
##############################################################################


  % Total    % Received % Xferd  Average Speed   Time    Time     Time  Current
                                 Dload  Upload   Total   Spent    Left  Speed

  0     0    0     0    0     0      0      0 --:--:-- --:--:-- --:--:--     0
 44 4286k   44 1922k    0     0  2818k      0  0:00:01 --:--:--  0:00:01 2814k
100 4286k  100 4286k    0     0  3645k      0  0:00:01  0:00:01 --:--:-- 3645k

install for i386

* installing *source* package 'ROSeq' ...
** using staged installation
** R
** data
*** moving datasets to lazyload DB
** inst
** byte-compile and prepare package for lazy loading
** help
*** installing help indices
  converting help for package 'ROSeq'
    finding HTML links ... done
    L_Tung_single                           html  
    ROSeq                                   html  
    TMMnormalization                        html  
    computeDEG                              html  
    findParams                              html  
    getDataStatistics                       html  
    getI                                    html  
    getd                                    html  
    getdu1da                                html  
    getdu1db                                html  
    getdu2da                                html  
    getdu2db                                html  
    getdvda                                 html  
    getdvdb                                 html  
    getu1                                   html  
    getu2                                   html  
    getv                                    html  
    initiateAnalysis                        html  
    minimizeNLL                             html  
** building package indices
** installing vignettes
** testing if installed package can be loaded from temporary location
** testing if installed package can be loaded from final location
** testing if installed package keeps a record of temporary installation path

install for x64

* installing *source* package 'ROSeq' ...
** testing if installed package can be loaded
* MD5 sums
packaged installation of 'ROSeq' as ROSeq_1.5.0.zip
* DONE (ROSeq)
* installing to library 'D:/biocbuild/bbs-3.14-bioc/R/library'
package 'ROSeq' successfully unpacked and MD5 sums checked