Index of /checkResults/devel/bioc-LATEST/ROSeq/raw-results/nebbiolo1

[ICO]NameLast modifiedSizeDescription

[DIR]Parent Directory  -  
[TXT]buildsrc-out.txt23-Jan-2022 01:06 797  
[   ]buildsrc-summary.dcf23-Jan-2022 01:06 409  
[TXT]checksrc-out.txt23-Jan-2022 01:06 3.7K 
[   ]checksrc-summary.dcf23-Jan-2022 01:06 420  
[TXT]install-out.txt23-Jan-2022 01:06 1.0K 
[   ]install-summary.dcf23-Jan-2022 01:06 254