![]() | Name | Last modified | Size | Description |
---|---|---|---|---|
![]() | Parent Directory | - | ||
![]() | buildsrc-out.txt | 02-Apr-2023 00:04 | 873 | |
![]() | buildsrc-summary.dcf | 02-Apr-2023 00:04 | 421 | |
![]() | checksrc-out.txt | 02-Apr-2023 00:04 | 6.0K | |
![]() | checksrc-summary.dcf | 02-Apr-2023 00:04 | 424 | |
![]() | install-out.txt | 02-Apr-2023 00:04 | 955 | |
![]() | install-summary.dcf | 02-Apr-2023 00:04 | 261 | |