Index of /checkResults/devel/bioc-LATEST/RNAmodR.RiboMethSeq/raw-results
Name
Last modified
Size
Description
Parent Directory
-
info.dcf
22-Mar-2023 00:07
299
merida1/
22-Mar-2023 00:07
-
nebbiolo1/
22-Mar-2023 00:05
-
palomino3/
22-Mar-2023 00:06
-