Back to Multiple platform build/check report for BioC 3.15
ABCDEFGHIJKLMNOPQ[R]STUVWXYZ

This page was generated on 2022-01-25 11:08:10 -0500 (Tue, 25 Jan 2022).

HostnameOSArch (*)R versionInstalled pkgs
nebbiolo1Linux (Ubuntu 20.04.4 LTS)x86_64R Under development (unstable) (2022-01-05 r81451) -- "Unsuffered Consequences" 4164
riesling1Windows Server 2019 Standardx64R Under development (unstable) (2021-11-21 r81221) -- "Unsuffered Consequences" 4059
palomino3Windows Server 2022 Datacenterx64R Under development (unstable) (2021-12-21 r81400 ucrt) -- "Unsuffered Consequences" 4001
merida1macOS 10.14.6 Mojavex86_64R Under development (unstable) (2022-01-05 r81451) -- "Unsuffered Consequences" 4118
Click on any hostname to see more info about the system (e.g. compilers)      (*) as reported by 'uname -p', except on Windows and Mac OS X

CHECK results for RNAinteract on riesling1


To the developers/maintainers of the RNAinteract package:
- Please allow up to 24 hours (and sometimes 48 hours) for your latest push to git@git.bioconductor.org:packages/RNAinteract.git to
reflect on this report. See How and When does the builder pull? When will my changes propagate? here for more information.
- Make sure to use the following settings in order to reproduce any error or warning you see on this page.

raw results

Package 1623/2075HostnameOS / ArchINSTALLBUILDCHECKBUILD BIN
RNAinteract 1.43.0  (landing page)
Mike Smith
Snapshot Date: 2022-01-24 13:55:18 -0500 (Mon, 24 Jan 2022)
git_url: https://git.bioconductor.org/packages/RNAinteract
git_branch: master
git_last_commit: 5cddc4e
git_last_commit_date: 2021-10-26 11:58:13 -0500 (Tue, 26 Oct 2021)
nebbiolo1Linux (Ubuntu 20.04.4 LTS) / x86_64  OK    OK    OK  UNNEEDED, same version is already published
riesling1Windows Server 2019 Standard / x64  OK    OK    OK    OK  
palomino3Windows Server 2022 Datacenter / x64  OK    OK    OK    OK  NO, package depends on 'cellHTS2' which is not available
merida1macOS 10.14.6 Mojave / x86_64  OK    OK    OK    OK  UNNEEDED, same version is already published

Summary

Package: RNAinteract
Version: 1.43.0
Command: D:\biocbuild\bbs-3.15-bioc\R\bin\R.exe CMD check --no-multiarch --install=check:RNAinteract.install-out.txt --library=D:\biocbuild\bbs-3.15-bioc\R\library --no-vignettes --timings RNAinteract_1.43.0.tar.gz
StartedAt: 2022-01-24 19:53:18 -0500 (Mon, 24 Jan 2022)
EndedAt: 2022-01-24 19:55:51 -0500 (Mon, 24 Jan 2022)
EllapsedTime: 152.2 seconds
RetCode: 0
Status:   OK  
CheckDir: RNAinteract.Rcheck
Warnings: 0

Command output

##############################################################################
##############################################################################
###
### Running command:
###
###   D:\biocbuild\bbs-3.15-bioc\R\bin\R.exe CMD check --no-multiarch --install=check:RNAinteract.install-out.txt --library=D:\biocbuild\bbs-3.15-bioc\R\library --no-vignettes --timings RNAinteract_1.43.0.tar.gz
###
##############################################################################
##############################################################################


* using log directory 'D:/biocbuild/bbs-3.15-bioc/meat/RNAinteract.Rcheck'
* using R Under development (unstable) (2021-11-21 r81221)
* using platform: x86_64-w64-mingw32 (64-bit)
* using session charset: ISO8859-1
* using option '--no-vignettes'
* checking for file 'RNAinteract/DESCRIPTION' ... OK
* checking extension type ... Package
* this is package 'RNAinteract' version '1.43.0'
* checking package namespace information ... OK
* checking package dependencies ... OK
* checking if this is a source package ... OK
* checking if there is a namespace ... OK
* checking for hidden files and directories ... OK
* checking for portable file names ... OK
* checking whether package 'RNAinteract' can be installed ... OK
* checking installed package size ... OK
* checking package directory ... OK
* checking 'build' directory ... OK
* checking DESCRIPTION meta-information ... OK
* checking top-level files ... OK
* checking for left-over files ... OK
* checking index information ... OK
* checking package subdirectories ... OK
* checking R files for non-ASCII characters ... OK
* checking R files for syntax errors ... OK
* checking whether the package can be loaded ... OK
* checking whether the package can be loaded with stated dependencies ... OK
* checking whether the package can be unloaded cleanly ... OK
* checking whether the namespace can be loaded with stated dependencies ... OK
* checking whether the namespace can be unloaded cleanly ... OK
* checking dependencies in R code ... NOTE
Namespace in Imports field not imported from: 'ICS'
  All declared Imports should be used.
* checking S3 generic/method consistency ... OK
* checking replacement functions ... OK
* checking foreign function calls ... OK
* checking R code for possible problems ... OK
* checking Rd files ... OK
* checking Rd metadata ... OK
* checking Rd cross-references ... OK
* checking for missing documentation entries ... OK
* checking for code/documentation mismatches ... OK
* checking Rd \usage sections ... OK
* checking Rd contents ... OK
* checking for unstated dependencies in examples ... OK
* checking contents of 'data' directory ... OK
* checking data for non-ASCII characters ... OK
* checking data for ASCII and uncompressed saves ... OK
* checking files in 'vignettes' ... OK
* checking examples ... OK
* checking for unstated dependencies in vignettes ... OK
* checking package vignettes in 'inst/doc' ... OK
* checking running R code from vignettes ... SKIPPED
* checking re-building of vignette outputs ... SKIPPED
* checking PDF version of manual ... OK
* DONE

Status: 1 NOTE
See
  'D:/biocbuild/bbs-3.15-bioc/meat/RNAinteract.Rcheck/00check.log'
for details.



Installation output

RNAinteract.Rcheck/00install.out

##############################################################################
##############################################################################
###
### Running command:
###
###   D:\biocbuild\bbs-3.15-bioc\R\bin\R.exe CMD INSTALL RNAinteract
###
##############################################################################
##############################################################################


* installing to library 'D:/biocbuild/bbs-3.15-bioc/R/library'
* installing *source* package 'RNAinteract' ...
** using staged installation
** R
** data
** inst
** byte-compile and prepare package for lazy loading
** help
*** installing help indices
  converting help for package 'RNAinteract'
    finding HTML links ... done
    RNAinteract-class                       html  
    RNAinteract-package                     html  
    bindsamples                             html  
    computePI                               html  
    computePValues                          html  
    finding level-2 HTML links ... done

    createCellHTSFromFiles                  html  
    createRNAinteract                       html  
    createRNAinteractFromFiles              html  
    embedPCA                                html  
    estimateMainEffect                      html  
    getData                                 html  
    getMain                                 html  
    getReplicateData                        html  
    getSampleNames                          html  
    getScale                                html  
    grid.doublePerturbation                 html  
    grid.sgiHeatmap                         html  
    normalizeMainEffectQuery                html  
    normalizeMainEffectTemplate             html  
    normalizePlateEffect                    html  
    plotDoublePerturbation                  html  
    plotHeatmap                             html  
    reportAnnotation                        html  
    sgi                                     html  
    sgisubset                               html  
    sgisubsetQueryDesign                    html  
    startReport                             html  
    summarizeSamples                        html  
    swaptree                                html  
** building package indices
** installing vignettes
** testing if installed package can be loaded from temporary location
** testing if installed package can be loaded from final location
** testing if installed package keeps a record of temporary installation path
* DONE (RNAinteract)
Making 'packages.html' ... done

Tests output


Example timings

RNAinteract.Rcheck/RNAinteract-Ex.timings

nameusersystemelapsed
RNAinteract-class0.000.020.01
bindsamples0.080.000.08
computePI0.020.000.01
computePValues0.080.000.08
embedPCA000
estimateMainEffect0.430.060.50
getData0.070.010.08
getMain0.010.000.02
getReplicateData0.020.000.01
getSampleNames000
getScale000
grid.sgiHeatmap0.070.020.07
normalizeMainEffectQuery0.040.000.05
normalizeMainEffectTemplate0.020.020.03
normalizePlateEffect1.030.011.05
plotDoublePerturbation0.030.000.03
plotHeatmap0.030.000.03
reportAnnotation0.030.000.03
sgi000
sgisubset0.000.020.02
startReport0.030.000.03
summarizeSamples0.100.000.09