Index of /checkResults/devel/bioc-LATEST/RNAinteract/raw-results/palomino4
Name
Last modified
Size
Description
Parent Directory
-
buildsrc-out.txt
12-Jun-2024 04:41
950
buildsrc-summary.dcf
12-Jun-2024 04:41
379
install-out.txt
12-Jun-2024 04:41
631
install-summary.dcf
12-Jun-2024 04:41
278