Index of /checkResults/devel/bioc-LATEST/RNAinteract/raw-results/nebbiolo2

[ICO]NameLast modifiedSizeDescription

[DIR]Parent Directory  -  
[TXT]buildsrc-out.txt22-Jun-2024 00:35 909  
[   ]buildsrc-summary.dcf22-Jun-2024 00:35 435  
[TXT]checksrc-out.txt22-Jun-2024 00:35 3.3K 
[   ]checksrc-summary.dcf22-Jun-2024 00:35 430  
[TXT]install-out.txt22-Jun-2024 00:35 972  
[   ]install-summary.dcf22-Jun-2024 00:35 267