Index of /checkResults/devel/bioc-LATEST/RNAinteract/raw-results/kjohnson3
Name
Last modified
Size
Description
Parent Directory
-
install-out.txt
27-Jun-2024 00:39
706
install-summary.dcf
27-Jun-2024 00:39
279
buildsrc-out.txt
27-Jun-2024 00:39
955
buildsrc-summary.dcf
27-Jun-2024 00:39
350