Name | Last modified | Size | Description | |
---|---|---|---|---|
Parent Directory | - | |||
buildbin-out.txt | 17-Jul-2024 00:41 | 1.3K | ||
buildbin-summary.dcf | 17-Jul-2024 00:41 | 527 | ||
buildsrc-out.txt | 17-Jul-2024 00:41 | 882 | ||
buildsrc-summary.dcf | 17-Jul-2024 00:41 | 462 | ||
checksrc-out.txt | 17-Jul-2024 00:41 | 6.8K | ||
checksrc-summary.dcf | 17-Jul-2024 00:41 | 463 | ||
install-out.txt | 17-Jul-2024 00:41 | 8.0K | ||
install-summary.dcf | 17-Jul-2024 00:41 | 277 | ||