Name | Last modified | Size | Description | |
---|---|---|---|---|
Parent Directory | - | |||
buildsrc-out.txt | 28-Jul-2024 00:39 | 864 | ||
buildsrc-summary.dcf | 28-Jul-2024 00:39 | 427 | ||
checksrc-out.txt | 28-Jul-2024 00:39 | 4.4K | ||
checksrc-summary.dcf | 28-Jul-2024 00:39 | 418 | ||
install-out.txt | 28-Jul-2024 00:39 | 8.2K | ||
install-summary.dcf | 28-Jul-2024 00:39 | 262 | ||