Name | Last modified | Size | Description | |
---|---|---|---|---|
Parent Directory | - | |||
buildbin-out.txt | 28-Jul-2024 00:41 | 25K | ||
buildbin-summary.dcf | 28-Jul-2024 00:41 | 537 | ||
buildsrc-out.txt | 28-Jul-2024 00:41 | 850 | ||
buildsrc-summary.dcf | 28-Jul-2024 00:41 | 431 | ||
checksrc-out.txt | 28-Jul-2024 00:41 | 4.5K | ||
checksrc-summary.dcf | 28-Jul-2024 00:41 | 447 | ||
install-out.txt | 28-Jul-2024 00:41 | 9.3K | ||
install-summary.dcf | 28-Jul-2024 00:41 | 272 | ||