Name | Last modified | Size | Description | |
---|---|---|---|---|
Parent Directory | - | |||
buildbin-out.txt | 28-Jul-2024 00:43 | 38K | ||
buildbin-summary.dcf | 28-Jul-2024 00:43 | 537 | ||
buildsrc-out.txt | 28-Jul-2024 00:43 | 850 | ||
buildsrc-summary.dcf | 28-Jul-2024 00:43 | 431 | ||
checksrc-out.txt | 28-Jul-2024 00:43 | 4.5K | ||
checksrc-summary.dcf | 28-Jul-2024 00:43 | 447 | ||
install-out.txt | 28-Jul-2024 00:43 | 23K | ||
install-summary.dcf | 28-Jul-2024 00:43 | 271 | ||