Back to Multiple platform build/check report for BioC 3.14
ABCDEFGHIJKLMNOPQ[R]STUVWXYZ

This page was generated on 2021-10-20 12:04:53 -0400 (Wed, 20 Oct 2021).

INSTALL results for RNASeqR on nebbiolo2

To the developers/maintainers of the RNASeqR package:
- Please allow up to 24 hours (and sometimes 48 hours) for your latest push to git@git.bioconductor.org:packages/RNASeqR.git to
reflect on this report. See How and When does the builder pull? When will my changes propagate? here for more information.
- Make sure to use the following settings in order to reproduce any error or warning you see on this page.

raw results

Package 1628/2072HostnameOS / ArchINSTALLBUILDCHECKBUILD BIN
RNASeqR 1.11.1  (landing page)
Kuan-Hao Chao
Snapshot Date: 2021-10-19 14:50:04 -0400 (Tue, 19 Oct 2021)
git_url: https://git.bioconductor.org/packages/RNASeqR
git_branch: master
git_last_commit: 3d35a08
git_last_commit_date: 2021-10-19 00:11:18 -0400 (Tue, 19 Oct 2021)
nebbiolo2Linux (Ubuntu 20.04.2 LTS) / x86_64  OK    OK    OK  YES
riesling1Windows Server 2019 Standard / x64... NOT SUPPORTED ...
merida1macOS 10.14.6 Mojave / x86_64  OK    OK    OK    NA  

Summary

Package: RNASeqR
Version: 1.11.1
Command: /home/biocbuild/bbs-3.14-bioc/R/bin/R CMD INSTALL RNASeqR
StartedAt: 2021-10-19 16:37:21 -0400 (Tue, 19 Oct 2021)
EndedAt: 2021-10-19 16:38:06 -0400 (Tue, 19 Oct 2021)
EllapsedTime: 44.5 seconds
RetCode: 0
Status:   OK  

Command output

##############################################################################
##############################################################################
###
### Running command:
###
###   /home/biocbuild/bbs-3.14-bioc/R/bin/R CMD INSTALL RNASeqR
###
##############################################################################
##############################################################################


* installing to library ‘/home/biocbuild/bbs-3.14-bioc/R/library’
* installing *source* package ‘RNASeqR’ ...
** using staged installation
** R
** data
** inst
** byte-compile and prepare package for lazy loading
** help
*** installing help indices
** building package indices
** installing vignettes
** testing if installed package can be loaded from temporary location
** testing if installed package can be loaded from final location
** testing if installed package keeps a record of temporary installation path
* DONE (RNASeqR)