Back to Multiple platform build/check report for BioC 3.16
ABCDEFGHIJKLMNOPQ[R]STUVWXYZ

This page was generated on 2022-08-09 11:04:39 -0400 (Tue, 09 Aug 2022).

HostnameOSArch (*)R versionInstalled pkgs
nebbiolo2Linux (Ubuntu 20.04.4 LTS)x86_644.2.1 (2022-06-23) -- "Funny-Looking Kid" 4374
palomino4Windows Server 2022 Datacenterx644.2.1 (2022-06-23 ucrt) -- "Funny-Looking Kid" 4158
lconwaymacOS 12.2.1 Montereyx86_644.2.1 Patched (2022-07-09 r82577) -- "Funny-Looking Kid" 4158
Click on any hostname to see more info about the system (e.g. compilers)      (*) as reported by 'uname -p', except on Windows and Mac OS X

All results for package RNASeqR


To the developers/maintainers of the RNASeqR package:
- Please allow up to 24 hours (and sometimes 48 hours) for your latest push to git@git.bioconductor.org:packages/RNASeqR.git to
reflect on this report. See How and When does the builder pull? When will my changes propagate? for more information.
- Make sure to use the following settings in order to reproduce any error or warning you see on this page.

raw results

Package 1677/2139HostnameOS / ArchINSTALLBUILDCHECKBUILD BIN
RNASeqR 1.15.1  (landing page)
Kuan-Hao Chao
Snapshot Date: 2022-08-08 14:00:04 -0400 (Mon, 08 Aug 2022)
git_url: https://git.bioconductor.org/packages/RNASeqR
git_branch: master
git_last_commit: c13124c
git_last_commit_date: 2022-05-04 12:42:15 -0400 (Wed, 04 May 2022)
nebbiolo2Linux (Ubuntu 20.04.4 LTS) / x86_64  OK    OK    ERROR  
palomino4Windows Server 2022 Datacenter / x64... NOT SUPPORTED ...
lconwaymacOS 12.2.1 Monterey / x86_64  OK    OK    ERROR    OK