Back to Multiple platform build/check report for BioC 3.16
ABCDEFGHIJKLMNOPQ[R]STUVWXYZ

This page was generated on 2022-06-24 11:07:07 -0400 (Fri, 24 Jun 2022).

HostnameOSArch (*)R versionInstalled pkgs
nebbiolo2Linux (Ubuntu 20.04.4 LTS)x86_644.2.0 Patched (2022-06-02 r82447) -- "Vigorous Calisthenics" 4331
palomino4Windows Server 2022 Datacenterx644.2.0 Patched (2022-06-02 r82447 ucrt) -- "Vigorous Calisthenics" 4136
lconwaymacOS 12.2.1 Montereyx86_644.2.0 Patched (2022-05-29 r82424) -- "Vigorous Calisthenics" 4147
Click on any hostname to see more info about the system (e.g. compilers)      (*) as reported by 'uname -p', except on Windows and Mac OS X

CHECK results for RNASeqPower on palomino4


To the developers/maintainers of the RNASeqPower package:
- Please allow up to 24 hours (and sometimes 48 hours) for your latest push to git@git.bioconductor.org:packages/RNASeqPower.git to
reflect on this report. See How and When does the builder pull? When will my changes propagate? for more information.
- Make sure to use the following settings in order to reproduce any error or warning you see on this page.

raw results

Package 1661/2118HostnameOS / ArchINSTALLBUILDCHECKBUILD BIN
RNASeqPower 1.37.0  (landing page)
Terry M Therneau
Snapshot Date: 2022-06-23 14:00:04 -0400 (Thu, 23 Jun 2022)
git_url: https://git.bioconductor.org/packages/RNASeqPower
git_branch: master
git_last_commit: 71bc7a4
git_last_commit_date: 2022-04-26 11:13:59 -0400 (Tue, 26 Apr 2022)
nebbiolo2Linux (Ubuntu 20.04.4 LTS) / x86_64  OK    OK    OK  UNNEEDED, same version is already published
palomino4Windows Server 2022 Datacenter / x64  OK    OK    OK    OK  UNNEEDED, same version is already published
lconwaymacOS 12.2.1 Monterey / x86_64  OK    OK    OK    OK  UNNEEDED, same version is already published

Summary

Package: RNASeqPower
Version: 1.37.0
Command: F:\biocbuild\bbs-3.16-bioc\R\bin\R.exe CMD check --force-multiarch --install=check:RNASeqPower.install-out.txt --library=F:\biocbuild\bbs-3.16-bioc\R\library --no-vignettes --timings RNASeqPower_1.37.0.tar.gz
StartedAt: 2022-06-24 05:13:19 -0400 (Fri, 24 Jun 2022)
EndedAt: 2022-06-24 05:13:44 -0400 (Fri, 24 Jun 2022)
EllapsedTime: 24.6 seconds
RetCode: 0
Status:   OK  
CheckDir: RNASeqPower.Rcheck
Warnings: 0

Command output

##############################################################################
##############################################################################
###
### Running command:
###
###   F:\biocbuild\bbs-3.16-bioc\R\bin\R.exe CMD check --force-multiarch --install=check:RNASeqPower.install-out.txt --library=F:\biocbuild\bbs-3.16-bioc\R\library --no-vignettes --timings RNASeqPower_1.37.0.tar.gz
###
##############################################################################
##############################################################################


* using log directory 'F:/biocbuild/bbs-3.16-bioc/meat/RNASeqPower.Rcheck'
* using R version 4.2.0 Patched (2022-06-02 r82447 ucrt)
* using platform: x86_64-w64-mingw32 (64-bit)
* using session charset: UTF-8
* using option '--no-vignettes'
* checking for file 'RNASeqPower/DESCRIPTION' ... OK
* this is package 'RNASeqPower' version '1.37.0'
* checking package namespace information ... OK
* checking package dependencies ... OK
* checking if this is a source package ... OK
* checking if there is a namespace ... OK
* checking for hidden files and directories ... OK
* checking for portable file names ... OK
* checking whether package 'RNASeqPower' can be installed ... OK
* checking installed package size ... OK
* checking package directory ... OK
* checking 'build' directory ... OK
* checking DESCRIPTION meta-information ... NOTE
Malformed Description field: should contain one or more complete sentences.
* checking top-level files ... OK
* checking for left-over files ... OK
* checking index information ... OK
* checking package subdirectories ... OK
* checking R files for non-ASCII characters ... OK
* checking R files for syntax errors ... OK
* checking whether the package can be loaded ... OK
* checking whether the package can be loaded with stated dependencies ... OK
* checking whether the package can be unloaded cleanly ... OK
* checking whether the namespace can be loaded with stated dependencies ... OK
* checking whether the namespace can be unloaded cleanly ... OK
* checking dependencies in R code ... OK
* checking S3 generic/method consistency ... OK
* checking replacement functions ... OK
* checking foreign function calls ... OK
* checking R code for possible problems ... NOTE
rnapower: no visible global function definition for 'qnorm'
rnapower: no visible global function definition for 'pnorm'
Undefined global functions or variables:
  pnorm qnorm
Consider adding
  importFrom("stats", "pnorm", "qnorm")
to your NAMESPACE file.
* checking Rd files ... OK
* checking Rd metadata ... OK
* checking Rd cross-references ... OK
* checking for missing documentation entries ... OK
* checking for code/documentation mismatches ... OK
* checking Rd \usage sections ... OK
* checking Rd contents ... OK
* checking for unstated dependencies in examples ... OK
* checking sizes of PDF files under 'inst/doc' ... OK
* checking installed files from 'inst/doc' ... OK
* checking files in 'vignettes' ... OK
* checking examples ... OK
* checking for unstated dependencies in 'tests' ... OK
* checking tests ...
  Running 'test1.R'
  Comparing 'test1.Rout' to 'test1.Rout.save' ... OK
 OK
* checking for unstated dependencies in vignettes ... OK
* checking package vignettes in 'inst/doc' ... OK
* checking running R code from vignettes ... SKIPPED
* checking re-building of vignette outputs ... SKIPPED
* checking PDF version of manual ... OK
* DONE

Status: 2 NOTEs
See
  'F:/biocbuild/bbs-3.16-bioc/meat/RNASeqPower.Rcheck/00check.log'
for details.



Installation output

RNASeqPower.Rcheck/00install.out

##############################################################################
##############################################################################
###
### Running command:
###
###   C:\cygwin\bin\curl.exe -O http://155.52.207.166/BBS/3.16/bioc/src/contrib/RNASeqPower_1.37.0.tar.gz && rm -rf RNASeqPower.buildbin-libdir && mkdir RNASeqPower.buildbin-libdir && F:\biocbuild\bbs-3.16-bioc\R\bin\R.exe CMD INSTALL --merge-multiarch --build --library=RNASeqPower.buildbin-libdir RNASeqPower_1.37.0.tar.gz && F:\biocbuild\bbs-3.16-bioc\R\bin\R.exe CMD INSTALL RNASeqPower_1.37.0.zip && rm RNASeqPower_1.37.0.tar.gz RNASeqPower_1.37.0.zip
###
##############################################################################
##############################################################################


  % Total    % Received % Xferd  Average Speed   Time    Time     Time  Current
                                 Dload  Upload   Total   Spent    Left  Speed

  0     0    0     0    0     0      0      0 --:--:-- --:--:-- --:--:--     0
100  8176  100  8176    0     0   220k      0 --:--:-- --:--:-- --:--:--  228k
only one architecture so ignoring '--merge-multiarch'
* installing *source* package 'RNASeqPower' ...
** using staged installation
** R
** inst
** byte-compile and prepare package for lazy loading
** help
*** installing help indices
** building package indices
** installing vignettes
** testing if installed package can be loaded from temporary location
** testing if installed package can be loaded from final location
** testing if installed package keeps a record of temporary installation path
* MD5 sums
packaged installation of 'RNASeqPower' as RNASeqPower_1.37.0.zip
* DONE (RNASeqPower)
* installing to library 'F:/biocbuild/bbs-3.16-bioc/R/library'
package 'RNASeqPower' successfully unpacked and MD5 sums checked

Tests output

RNASeqPower.Rcheck/tests/test1.Rout


R version 4.2.0 Patched (2022-06-02 r82447 ucrt) -- "Vigorous Calisthenics"
Copyright (C) 2022 The R Foundation for Statistical Computing
Platform: x86_64-w64-mingw32/x64 (64-bit)

R is free software and comes with ABSOLUTELY NO WARRANTY.
You are welcome to redistribute it under certain conditions.
Type 'license()' or 'licence()' for distribution details.

R is a collaborative project with many contributors.
Type 'contributors()' for more information and
'citation()' on how to cite R or R packages in publications.

Type 'demo()' for some demos, 'help()' for on-line help, or
'help.start()' for an HTML browser interface to help.
Type 'q()' to quit R.

> library(RNASeqPower)
> 
> # Error message: "missing depth"
> #rnapower(n=10, cv=.1, effect=2, alpha=.05, power=.9)
> 
> rnapower(10, cv=.5, effect=c(1.5, 1.75, 2), alpha=.05, power=c(.8, .9))
          0.8      0.9
1.5  33.41941 44.73910
1.75 17.54389 23.48629
2    11.43549 15.30888
> rnapower(10, n=20 , effect=c(1.5, 1.75, 2), alpha=.05, power=c(.8, .9))
           0.8       0.9
1.5  0.3308461 0.2376188
1.75 0.5468084 0.4450239
2    0.7156322 0.5977048
> rnapower(10, n= c(10,20), cv=.5, alpha=.05, power=c(.8, .9))
        0.8      0.9
10 2.098515 2.357553
20 1.688986 1.833876
> rnapower(10, n= c(10,20), cv=.5, effect=1.5, power=c(.8, .9))
         0.8       0.9
10 0.4896329 0.8018431
20 0.1849454 0.3757519
> rnapower(10, n= c(10,20), cv=.5, effect=c(1.5,2), alpha=.05)
         1.5         2
10 0.3345258 0.7453365
20 0.5821271 0.9595131
> 
> 
> # More formal tests: cv and n
> t1 <- rnapower(15, n=20, effect=1.5, alpha=.05, power=.8)
> t2 <- rnapower(15,  effect=1.5, alpha=.05, power=.8, cv=t1)
> all.equal(t2, 20)
[1] TRUE
> 
> 
> # effect and n
> t3 <- rnapower(15, n=20, cv=.5, alpha=.05, power=.8)
> t4 <- rnapower(15, cv=.5, alpha=.05, power=.8, effect=t3)
> all.equal(t4, 20)
[1] TRUE
> 
> # power and n
> t5 <- rnapower(15, n=20, effect=1.5, cv=.5, alpha=.05)
> t6 <- rnapower(15, effect=1.5, cv=.5, alpha=.05, power=t5)
> all.equal(t6, 20)
[1] TRUE
> 
> # alpha and n
> t7 <- rnapower(15, n=20, effect=1.5, cv=.5, power=.8)
> t8 <- rnapower(15, effect=1.5, cv=.5, power=.8, alpha=t7)
> all.equal(t8, 20)
[1] TRUE
> 
> 
> proc.time()
   user  system elapsed 
   0.12    0.07    0.20 

RNASeqPower.Rcheck/tests/test1.Rout.save


R version 2.15.0 (2012-03-30)
Copyright (C) 2012 The R Foundation for Statistical Computing
ISBN 3-900051-07-0
Platform: x86_64-unknown-linux-gnu (64-bit)

R is free software and comes with ABSOLUTELY NO WARRANTY.
You are welcome to redistribute it under certain conditions.
Type 'license()' or 'licence()' for distribution details.

R is a collaborative project with many contributors.
Type 'contributors()' for more information and
'citation()' on how to cite R or R packages in publications.

Type 'demo()' for some demos, 'help()' for on-line help, or
'help.start()' for an HTML browser interface to help.
Type 'q()' to quit R.

> library(RNASeqPower)
> 
> # Error message: "missing depth"
> #rnapower(n=10, cv=.1, effect=2, alpha=.05, power=.9)
> 
> rnapower(10, cv=.5, effect=c(1.5, 1.75, 2), alpha=.05, power=c(.8, .9))
          0.8      0.9
1.5  33.41941 44.73910
1.75 17.54389 23.48629
2    11.43549 15.30888
> rnapower(10, n=20 , effect=c(1.5, 1.75, 2), alpha=.05, power=c(.8, .9))
           0.8       0.9
1.5  0.3308461 0.2376188
1.75 0.5468084 0.4450239
2    0.7156322 0.5977048
> rnapower(10, n= c(10,20), cv=.5, alpha=.05, power=c(.8, .9))
        0.8      0.9
10 2.098515 2.357553
20 1.688986 1.833876
> rnapower(10, n= c(10,20), cv=.5, effect=1.5, power=c(.8, .9))
         0.8       0.9
10 0.4896329 0.8018431
20 0.1849454 0.3757519
> rnapower(10, n= c(10,20), cv=.5, effect=c(1.5,2), alpha=.05)
         1.5         2
10 0.3345258 0.7453365
20 0.5821271 0.9595131
> 
> 
> # More formal tests: cv and n
> t1 <- rnapower(15, n=20, effect=1.5, alpha=.05, power=.8)
> t2 <- rnapower(15,  effect=1.5, alpha=.05, power=.8, cv=t1)
> all.equal(t2, 20)
[1] TRUE
> 
> 
> # effect and n
> t3 <- rnapower(15, n=20, cv=.5, alpha=.05, power=.8)
> t4 <- rnapower(15, cv=.5, alpha=.05, power=.8, effect=t3)
> all.equal(t4, 20)
[1] TRUE
> 
> # power and n
> t5 <- rnapower(15, n=20, effect=1.5, cv=.5, alpha=.05)
> t6 <- rnapower(15, effect=1.5, cv=.5, alpha=.05, power=t5)
> all.equal(t6, 20)
[1] TRUE
> 
> # alpha and n
> t7 <- rnapower(15, n=20, effect=1.5, cv=.5, power=.8)
> t8 <- rnapower(15, effect=1.5, cv=.5, power=.8, alpha=t7)
> all.equal(t8, 20)
[1] TRUE
> 
> 
> proc.time()
   user  system elapsed 
  0.220   0.051   0.297 

Example timings

RNASeqPower.Rcheck/RNASeqPower-Ex.timings

nameusersystemelapsed
rnapower000