Index of /checkResults/devel/bioc-LATEST/RITAN/raw-results/nebbiolo1

[ICO]NameLast modifiedSizeDescription

[DIR]Parent Directory  -  
[TXT]buildsrc-out.txt02-Mar-2024 01:37 798  
[   ]buildsrc-summary.dcf02-Mar-2024 01:37 412  
[TXT]checksrc-out.txt02-Mar-2024 01:37 4.6K 
[   ]checksrc-summary.dcf02-Mar-2024 01:37 412  
[TXT]install-out.txt02-Mar-2024 01:37 1.5K 
[   ]install-summary.dcf02-Mar-2024 01:37 255