Index of /checkResults/devel/bioc-LATEST/RITAN/raw-results/merida1

[ICO]NameLast modifiedSizeDescription

[DIR]Parent Directory  -  
[TXT]buildbin-out.txt18-Feb-2024 16:29 1.7K 
[   ]buildbin-summary.dcf18-Feb-2024 16:29 519  
[TXT]buildsrc-out.txt18-Feb-2024 16:29 808  
[   ]buildsrc-summary.dcf18-Feb-2024 16:29 422  
[TXT]checksrc-out.txt18-Feb-2024 16:29 4.9K 
[   ]checksrc-summary.dcf18-Feb-2024 16:29 442  
[TXT]install-out.txt18-Feb-2024 16:29 1.5K 
[   ]install-summary.dcf18-Feb-2024 16:29 265