Index of /checkResults/devel/bioc-LATEST/RITAN/raw-results/kunpeng2

[ICO]NameLast modifiedSizeDescription

[DIR]Parent Directory  -  
[TXT]buildsrc-out.txt02-Mar-2024 01:40 810  
[   ]buildsrc-summary.dcf02-Mar-2024 01:40 424  
[TXT]checksrc-out.txt02-Mar-2024 01:40 4.7K 
[   ]checksrc-summary.dcf02-Mar-2024 01:40 451  
[TXT]install-out.txt02-Mar-2024 01:40 1.5K 
[   ]install-summary.dcf02-Mar-2024 01:40 267