Index of /checkResults/devel/bioc-LATEST/REDseq/raw-results/palomino4

[ICO]NameLast modifiedSizeDescription

[DIR]Parent Directory  -  
[TXT]buildbin-out.txt25-Jun-2022 00:07 1.4K 
[   ]buildbin-summary.dcf25-Jun-2022 00:07 527  
[TXT]buildsrc-out.txt25-Jun-2022 00:07 894  
[   ]buildsrc-summary.dcf25-Jun-2022 00:07 448  
[TXT]checksrc-out.txt25-Jun-2022 00:07 3.7K 
[   ]checksrc-summary.dcf25-Jun-2022 00:07 446  
[TXT]install-out.txt25-Jun-2022 00:07 2.1K 
[   ]install-summary.dcf25-Jun-2022 00:07 619