Index of /checkResults/devel/bioc-LATEST/REDseq/raw-results/kunpeng2

[ICO]NameLast modifiedSizeDescription

[DIR]Parent Directory  -  
[TXT]buildsrc-out.txt29-Mar-2024 00:41 874  
[   ]buildsrc-summary.dcf29-Mar-2024 00:41 423  
[TXT]checksrc-out.txt29-Mar-2024 00:41 3.8K 
[   ]checksrc-summary.dcf29-Mar-2024 00:41 443  
[TXT]install-out.txt29-Mar-2024 00:41 1.2K 
[   ]install-summary.dcf29-Mar-2024 00:41 266