Index of /checkResults/devel/bioc-LATEST/RCyjs/raw-results/palomino4

[ICO]NameLast modifiedSizeDescription

[DIR]Parent Directory  -  
[TXT]buildbin-out.txt25-Jun-2022 00:07 1.2K 
[   ]buildbin-summary.dcf25-Jun-2022 00:07 521  
[TXT]buildsrc-out.txt25-Jun-2022 00:07 876  
[   ]buildsrc-summary.dcf25-Jun-2022 00:07 444  
[TXT]checksrc-out.txt25-Jun-2022 00:07 3.9K 
[   ]checksrc-summary.dcf25-Jun-2022 00:07 447  
[TXT]install-out.txt25-Jun-2022 00:07 1.9K 
[   ]install-summary.dcf25-Jun-2022 00:07 610