Index of /checkResults/devel/bioc-LATEST/RCyjs/raw-results/nebbiolo2

[ICO]NameLast modifiedSizeDescription

[DIR]Parent Directory  -  
[TXT]buildsrc-out.txt14-Aug-2022 00:05 848  
[   ]buildsrc-summary.dcf14-Aug-2022 00:05 410  
[TXT]checksrc-out.txt14-Aug-2022 00:05 3.9K 
[   ]checksrc-summary.dcf14-Aug-2022 00:05 421  
[TXT]install-out.txt14-Aug-2022 00:05 1.0K 
[   ]install-summary.dcf14-Aug-2022 00:05 254