Back to Multiple platform build/check report for BioC 3.14
ABCDEFGHIJKLMNOPQ[R]STUVWXYZ

This page was generated on 2021-10-23 14:06:41 -0400 (Sat, 23 Oct 2021).

CHECK results for RCM on riesling1

To the developers/maintainers of the RCM package:
- Please allow up to 24 hours (and sometimes 48 hours) for your latest push to git@git.bioconductor.org:packages/RCM.git to
reflect on this report. See How and When does the builder pull? When will my changes propagate? here for more information.
- Make sure to use the following settings in order to reproduce any error or warning you see on this page.

raw results

Package 1546/2083HostnameOS / ArchINSTALLBUILDCHECKBUILD BIN
RCM 1.9.0  (landing page)
Joris Meys
Snapshot Date: 2021-10-22 14:50:11 -0400 (Fri, 22 Oct 2021)
git_url: https://git.bioconductor.org/packages/RCM
git_branch: master
git_last_commit: fe342fb
git_last_commit_date: 2021-05-19 12:40:14 -0400 (Wed, 19 May 2021)
nebbiolo2Linux (Ubuntu 20.04.2 LTS) / x86_64  OK    OK    OK  UNNEEDED, same version is already published
riesling1Windows Server 2019 Standard / x64  OK    OK    OK    OK  UNNEEDED, same version is already published
merida1macOS 10.14.6 Mojave / x86_64  OK    OK    OK    OK  UNNEEDED, same version is already published

Summary

Package: RCM
Version: 1.9.0
Command: D:\biocbuild\bbs-3.14-bioc\R\bin\R.exe CMD check --force-multiarch --install=check:RCM.install-out.txt --library=D:\biocbuild\bbs-3.14-bioc\R\library --no-vignettes --timings RCM_1.9.0.tar.gz
StartedAt: 2021-10-23 08:01:09 -0400 (Sat, 23 Oct 2021)
EndedAt: 2021-10-23 08:09:51 -0400 (Sat, 23 Oct 2021)
EllapsedTime: 522.4 seconds
RetCode: 0
Status:   OK  
CheckDir: RCM.Rcheck
Warnings: 0

Command output

##############################################################################
##############################################################################
###
### Running command:
###
###   D:\biocbuild\bbs-3.14-bioc\R\bin\R.exe CMD check --force-multiarch --install=check:RCM.install-out.txt --library=D:\biocbuild\bbs-3.14-bioc\R\library --no-vignettes --timings RCM_1.9.0.tar.gz
###
##############################################################################
##############################################################################


* using log directory 'D:/biocbuild/bbs-3.14-bioc/meat/RCM.Rcheck'
* using R version 4.1.1 (2021-08-10)
* using platform: x86_64-w64-mingw32 (64-bit)
* using session charset: ISO8859-1
* using option '--no-vignettes'
* checking for file 'RCM/DESCRIPTION' ... OK
* checking extension type ... Package
* this is package 'RCM' version '1.9.0'
* package encoding: UTF-8
* checking package namespace information ... OK
* checking package dependencies ... OK
* checking if this is a source package ... OK
* checking if there is a namespace ... OK
* checking for hidden files and directories ... OK
* checking for portable file names ... OK
* checking whether package 'RCM' can be installed ... OK
* checking installed package size ... OK
* checking package directory ... OK
* checking 'build' directory ... OK
* checking DESCRIPTION meta-information ... OK
* checking top-level files ... OK
* checking for left-over files ... OK
* checking index information ... OK
* checking package subdirectories ... OK
* checking R files for non-ASCII characters ... OK
* checking R files for syntax errors ... OK
* loading checks for arch 'i386'
** checking whether the package can be loaded ... OK
** checking whether the package can be loaded with stated dependencies ... OK
** checking whether the package can be unloaded cleanly ... OK
** checking whether the namespace can be loaded with stated dependencies ... OK
** checking whether the namespace can be unloaded cleanly ... OK
* loading checks for arch 'x64'
** checking whether the package can be loaded ... OK
** checking whether the package can be loaded with stated dependencies ... OK
** checking whether the package can be unloaded cleanly ... OK
** checking whether the namespace can be loaded with stated dependencies ... OK
** checking whether the namespace can be unloaded cleanly ... OK
* checking dependencies in R code ... OK
* checking S3 generic/method consistency ... OK
* checking replacement functions ... OK
* checking foreign function calls ... OK
* checking R code for possible problems ... OK
* checking Rd files ... OK
* checking Rd metadata ... OK
* checking Rd cross-references ... OK
* checking for missing documentation entries ... OK
* checking for code/documentation mismatches ... OK
* checking Rd \usage sections ... OK
* checking Rd contents ... OK
* checking for unstated dependencies in examples ... OK
* checking contents of 'data' directory ... OK
* checking data for non-ASCII characters ... OK
* checking LazyData ... OK
* checking data for ASCII and uncompressed saves ... OK
* checking files in 'vignettes' ... OK
* checking examples ...
** running examples for arch 'i386' ... OK
Examples with CPU (user + system) or elapsed time > 5s
               user system elapsed
getDevianceRes 7.69   0.02    7.70
plotRespFun    5.50   0.00    5.50
RCM            5.17   0.01    5.19
** running examples for arch 'x64' ... OK
Examples with CPU (user + system) or elapsed time > 5s
               user system elapsed
getDevianceRes 6.67   0.00    6.67
liks           5.94   0.03    5.97
RCM            5.80   0.03    5.83
plotRespFun    5.60   0.08    5.69
extractCoord   5.27   0.02    5.29
plot.RCM       5.13   0.00    5.13
* checking for unstated dependencies in 'tests' ... OK
* checking tests ...
** running tests for arch 'i386' ...
  Running 'testthat.R'
 OK
** running tests for arch 'x64' ...
  Running 'testthat.R'
 OK
* checking for unstated dependencies in vignettes ... OK
* checking package vignettes in 'inst/doc' ... OK
* checking running R code from vignettes ... SKIPPED
* checking re-building of vignette outputs ... SKIPPED
* checking PDF version of manual ... OK
* DONE

Status: OK


Installation output

RCM.Rcheck/00install.out

##############################################################################
##############################################################################
###
### Running command:
###
###   C:\cygwin\bin\curl.exe -O http://155.52.207.166/BBS/3.14/bioc/src/contrib/RCM_1.9.0.tar.gz && rm -rf RCM.buildbin-libdir && mkdir RCM.buildbin-libdir && D:\biocbuild\bbs-3.14-bioc\R\bin\R.exe CMD INSTALL --merge-multiarch --build --library=RCM.buildbin-libdir RCM_1.9.0.tar.gz && D:\biocbuild\bbs-3.14-bioc\R\bin\R.exe CMD INSTALL RCM_1.9.0.zip && rm RCM_1.9.0.tar.gz RCM_1.9.0.zip
###
##############################################################################
##############################################################################


  % Total    % Received % Xferd  Average Speed   Time    Time     Time  Current
                                 Dload  Upload   Total   Spent    Left  Speed

  0     0    0     0    0     0      0      0 --:--:-- --:--:-- --:--:--     0
 12 2729k   12  330k    0     0  1258k      0  0:00:02 --:--:--  0:00:02 1253k
100 2729k  100 2729k    0     0  3188k      0 --:--:-- --:--:-- --:--:-- 3185k

install for i386

* installing *source* package 'RCM' ...
** using staged installation
** R
** data
*** moving datasets to lazyload DB
** inst
** byte-compile and prepare package for lazy loading
** help
*** installing help indices
  converting help for package 'RCM'
    finding HTML links ... done
    JacCol_constr                           html  
    JacCol_constr_noLab                     html  
    LR_nb                                   html  
    LR_nb_Jac                               html  
    NBalphaInfl                             html  
    NBcolInfl                               html  
    NBjacobianAbunds                        html  
    NBjacobianCol                           html  
    NBjacobianColNP                         html  
    NBjacobianLibSizes                      html  
    NBjacobianPsi                           html  
    NBjacobianRow                           html  
    NBpsiInfl                               html  
    NBrowInfl                               html  
    RCM                                     html  
    RCM_NB                                  html  
    Zeller                                  html  
    addOrthProjection                       html  
    arrayprod                               html  
    buildCentMat                            html  
    buildConfMat                            html  
    buildConfMat.character                  html  
    buildConfMat.data.frame                 html  
    buildCovMat                             html  
    buildDesign                             html  
    checkAlias                              html  
    constrCorresp                           html  
    correctXMissingness                     html  
    dLR_nb                                  html  
    dNBabunds                               html  
    dNBlibSizes                             html  
    dNBllcol                                html  
    dNBllcolNP                              html  
    dNBllcol_constr                         html  
    dNBllcol_constr_noLab                   html  
    dNBllrow                                html  
    dNBpsis                                 html  
    deviances                               html  
    ellipseCoord                            html  
    estDisp                                 html  
    estNBparams                             html  
    estNBparamsNoLab                        html  
    estNPresp                               html  
    extractCoord                            html  
    extractE                                html  
    filterConfounders                       html  
    getDevMat                               html  
    getDevianceRes                          html  
    getInflCol                              html  
    getInflRow                              html  
    getInt                                  html  
    getLogLik                               html  
    getModelMat                             html  
    getRowMat                               html  
    heq_nb                                  html  
    heq_nb_jac                              html  
    indentPlot                              html  
    inertia                                 html  
    liks                                    html  
    plot.RCM                                html  
    plotRespFun                             html  
    residualPlot                            html  
    respFunJacMat                           html  
    respFunScoreMat                         html  
    rowMultiply                             html  
    seq_k                                   html  
    trimOnConfounders                       html  
** building package indices
** installing vignettes
** testing if installed package can be loaded from temporary location
** testing if installed package can be loaded from final location
** testing if installed package keeps a record of temporary installation path

install for x64

* installing *source* package 'RCM' ...
** testing if installed package can be loaded
* MD5 sums
packaged installation of 'RCM' as RCM_1.9.0.zip
* DONE (RCM)
* installing to library 'D:/biocbuild/bbs-3.14-bioc/R/library'
package 'RCM' successfully unpacked and MD5 sums checked

Tests output

RCM.Rcheck/tests_i386/testthat.Rout


R version 4.1.1 (2021-08-10) -- "Kick Things"
Copyright (C) 2021 The R Foundation for Statistical Computing
Platform: i386-w64-mingw32/i386 (32-bit)

R is free software and comes with ABSOLUTELY NO WARRANTY.
You are welcome to redistribute it under certain conditions.
Type 'license()' or 'licence()' for distribution details.

R is a collaborative project with many contributors.
Type 'contributors()' for more information and
'citation()' on how to cite R or R packages in publications.

Type 'demo()' for some demos, 'help()' for on-line help, or
'help.start()' for an HTML browser interface to help.
Type 'q()' to quit R.

> library(testthat)
> library(RCM)
> 
> test_check("RCM")
[ FAIL 0 | WARN 14 | SKIP 0 | PASS 25 ]
> 
> proc.time()
   user  system elapsed 
  55.71    0.37   56.07 

RCM.Rcheck/tests_x64/testthat.Rout


R version 4.1.1 (2021-08-10) -- "Kick Things"
Copyright (C) 2021 The R Foundation for Statistical Computing
Platform: x86_64-w64-mingw32/x64 (64-bit)

R is free software and comes with ABSOLUTELY NO WARRANTY.
You are welcome to redistribute it under certain conditions.
Type 'license()' or 'licence()' for distribution details.

R is a collaborative project with many contributors.
Type 'contributors()' for more information and
'citation()' on how to cite R or R packages in publications.

Type 'demo()' for some demos, 'help()' for on-line help, or
'help.start()' for an HTML browser interface to help.
Type 'q()' to quit R.

> library(testthat)
> library(RCM)
> 
> test_check("RCM")
[ FAIL 0 | WARN 14 | SKIP 0 | PASS 25 ]
> 
> proc.time()
   user  system elapsed 
  50.40    0.42   50.79 

Example timings

RCM.Rcheck/examples_i386/RCM-Ex.timings

nameusersystemelapsed
RCM5.170.015.19
RCM_NB4.040.054.09
addOrthProjection4.950.024.97
checkAlias000
extractCoord4.720.014.74
getDevianceRes7.690.027.70
inertia4.970.004.97
liks4.730.004.73
plot.RCM4.830.004.83
plotRespFun5.50.05.5
residualPlot2.110.002.11

RCM.Rcheck/examples_x64/RCM-Ex.timings

nameusersystemelapsed
RCM5.800.035.83
RCM_NB4.450.004.45
addOrthProjection4.540.004.54
checkAlias000
extractCoord5.270.025.29
getDevianceRes6.670.006.67
inertia4.920.014.93
liks5.940.035.97
plot.RCM5.130.005.13
plotRespFun5.600.085.69
residualPlot2.110.002.11