Back to Multiple platform build/check report for BioC 3.15
ABCDEFGHIJKLMNOPQ[R]STUVWXYZ

This page was generated on 2021-11-27 14:05:18 -0500 (Sat, 27 Nov 2021).

BUILD BIN results for RCM on riesling1

To the developers/maintainers of the RCM package:
- Please allow up to 24 hours (and sometimes 48 hours) for your latest push to git@git.bioconductor.org:packages/RCM.git to
reflect on this report. See How and When does the builder pull? When will my changes propagate? here for more information.
- Make sure to use the following settings in order to reproduce any error or warning you see on this page.

raw results

Package 1534/2068HostnameOS / ArchINSTALLBUILDCHECKBUILD BIN
RCM 1.11.1  (landing page)
Stijn Hawinkel
Snapshot Date: 2021-11-26 14:50:14 -0500 (Fri, 26 Nov 2021)
git_url: https://git.bioconductor.org/packages/RCM
git_branch: master
git_last_commit: fb5a52e
git_last_commit_date: 2021-11-26 03:22:15 -0500 (Fri, 26 Nov 2021)
nebbiolo1Linux (Ubuntu 20.04.3 LTS) / x86_64  OK    OK    OK  YES
riesling1Windows Server 2019 Standard / x64  OK    OK    OK    OK  
merida1macOS 10.14.6 Mojave / x86_64  OK    OK    OK    OK  YES

Summary

Package: RCM
Version: 1.11.1
Command: rm -rf RCM.buildbin-libdir && mkdir RCM.buildbin-libdir && D:\biocbuild\bbs-3.15-bioc\R\bin\R.exe CMD INSTALL --merge-multiarch --build --library=RCM.buildbin-libdir RCM_1.11.1.tar.gz
StartedAt: 2021-11-27 07:56:38 -0500 (Sat, 27 Nov 2021)
EndedAt: 2021-11-27 08:01:16 -0500 (Sat, 27 Nov 2021)
EllapsedTime: 278.0 seconds
RetCode: 0
Status:   OK  
PackageFile: RCM_1.11.1.zip
PackageFileSize: 3.487 MiB

Command output

##############################################################################
##############################################################################
###
### Running command:
###
###   rm -rf RCM.buildbin-libdir && mkdir RCM.buildbin-libdir && D:\biocbuild\bbs-3.15-bioc\R\bin\R.exe CMD INSTALL --merge-multiarch --build --library=RCM.buildbin-libdir RCM_1.11.1.tar.gz
###
##############################################################################
##############################################################################


only one architecture so ignoring '--merge-multiarch'
* installing *source* package 'RCM' ...
** using staged installation
** R
** data
*** moving datasets to lazyload DB
** inst
** byte-compile and prepare package for lazy loading
** help
*** installing help indices
  converting help for package 'RCM'
    finding HTML links ... done
    JacCol_constr                           html  
    JacCol_constr_noLab                     html  
    LR_nb                                   html  
    LR_nb_Jac                               html  
    NBalphaInfl                             html  
    NBcolInfl                               html  
    NBjacobianAbunds                        html  
    NBjacobianCol                           html  
    NBjacobianColNP                         html  
    NBjacobianLibSizes                      html  
    NBjacobianPsi                           html  
    NBjacobianRow                           html  
    NBpsiInfl                               html  
    NBrowInfl                               html  
    RCM                                     html  
    RCM_NB                                  html  
    Zeller                                  html  
    addOrthProjection                       html  
    arrayprod                               html  
    buildCentMat                            html  
    buildConfMat                            html  
    buildConfMat.character                  html  
    buildConfMat.data.frame                 html  
    buildCovMat                             html  
    buildDesign                             html  
    checkAlias                              html  
    constrCorresp                           html  
    correctXMissingness                     html  
    dLR_nb                                  html  
    dNBabunds                               html  
    dNBlibSizes                             html  
    dNBllcol                                html  
    dNBllcolNP                              html  
    dNBllcol_constr                         html  
    dNBllcol_constr_noLab                   html  
    dNBllrow                                html  
    dNBpsis                                 html  
    deviances                               html  
    ellipseCoord                            html  
    estDisp                                 html  
    estNBparams                             html  
    estNBparamsNoLab                        html  
    estNPresp                               html  
    extractCoord                            html  
    extractE                                html  
    filterConfounders                       html  
    getDevMat                               html  
    getDevianceRes                          html  
    getInflCol                              html  
    getInflRow                              html  
    getInt                                  html  
    getLogLik                               html  
    getModelMat                             html  
    getRowMat                               html  
    heq_nb                                  html  
    heq_nb_jac                              html  
    indentPlot                              html  
    inertia                                 html  
    liks                                    html  
    plot.RCM                                html  
    plotRespFun                             html  
    residualPlot                            html  
    respFunJacMat                           html  
    respFunScoreMat                         html  
    rowMultiply                             html  
    seq_k                                   html  
    trimOnConfounders                       html  
** building package indices
** installing vignettes
** testing if installed package can be loaded from temporary location
** testing if installed package can be loaded from final location
** testing if installed package keeps a record of temporary installation path
* MD5 sums
packaged installation of 'RCM' as RCM_1.11.1.zip
* DONE (RCM)