Back to Multiple platform build/check report for BioC 3.14
ABCDEFGHIJKLMNOPQ[R]STUVWXYZ

This page was generated on 2021-10-22 12:05:08 -0400 (Fri, 22 Oct 2021).

INSTALL results for RCM on merida1

To the developers/maintainers of the RCM package:
- Please allow up to 24 hours (and sometimes 48 hours) for your latest push to git@git.bioconductor.org:packages/RCM.git to
reflect on this report. See How and When does the builder pull? When will my changes propagate? here for more information.
- Make sure to use the following settings in order to reproduce any error or warning you see on this page.

raw results

Package 1541/2075HostnameOS / ArchINSTALLBUILDCHECKBUILD BIN
RCM 1.9.0  (landing page)
Joris Meys
Snapshot Date: 2021-10-21 14:50:08 -0400 (Thu, 21 Oct 2021)
git_url: https://git.bioconductor.org/packages/RCM
git_branch: master
git_last_commit: fe342fb
git_last_commit_date: 2021-05-19 12:40:14 -0400 (Wed, 19 May 2021)
nebbiolo2Linux (Ubuntu 20.04.2 LTS) / x86_64  OK    OK    OK  UNNEEDED, same version is already published
riesling1Windows Server 2019 Standard / x64  OK    OK    OK    OK  UNNEEDED, same version is already published
merida1macOS 10.14.6 Mojave / x86_64  OK    OK    OK    NA  

Summary

Package: RCM
Version: 1.9.0
Command: /Library/Frameworks/R.framework/Resources/bin/R CMD INSTALL RCM
StartedAt: 2021-10-21 17:22:28 -0400 (Thu, 21 Oct 2021)
EndedAt: 2021-10-21 17:23:00 -0400 (Thu, 21 Oct 2021)
EllapsedTime: 32.1 seconds
RetCode: 0
Status:   OK  

Command output

##############################################################################
##############################################################################
###
### Running command:
###
###   /Library/Frameworks/R.framework/Resources/bin/R CMD INSTALL RCM
###
##############################################################################
##############################################################################


* installing to library ‘/Library/Frameworks/R.framework/Versions/4.1/Resources/library’
* installing *source* package ‘RCM’ ...
** using staged installation
** R
** data
*** moving datasets to lazyload DB
** inst
** byte-compile and prepare package for lazy loading
** help
*** installing help indices
** building package indices
** installing vignettes
** testing if installed package can be loaded from temporary location
** testing if installed package can be loaded from final location
** testing if installed package keeps a record of temporary installation path
* DONE (RCM)