![]() | Name | Last modified | Size | Description |
---|---|---|---|---|
![]() | Parent Directory | - | ||
![]() | buildbin-out.txt | 01-Apr-2023 00:03 | 1.4K | |
![]() | buildbin-summary.dcf | 01-Apr-2023 00:03 | 497 | |
![]() | buildsrc-out.txt | 02-Apr-2023 00:05 | 1.1K | |
![]() | buildsrc-summary.dcf | 02-Apr-2023 00:05 | 440 | |
![]() | checksrc-out.txt | 02-Apr-2023 00:05 | 4.1K | |
![]() | checksrc-summary.dcf | 02-Apr-2023 00:05 | 435 | |
![]() | install-out.txt | 02-Apr-2023 00:05 | 1.3K | |
![]() | install-summary.dcf | 02-Apr-2023 00:05 | 262 | |