![]() | Name | Last modified | Size | Description |
---|---|---|---|---|
![]() | Parent Directory | - | ||
![]() | buildsrc-out.txt | 22-Mar-2023 00:05 | 1.1K | |
![]() | buildsrc-summary.dcf | 22-Mar-2023 00:05 | 409 | |
![]() | checksrc-out.txt | 22-Mar-2023 00:05 | 4.2K | |
![]() | checksrc-summary.dcf | 22-Mar-2023 00:05 | 402 | |
![]() | install-out.txt | 22-Mar-2023 00:05 | 1.3K | |
![]() | install-summary.dcf | 22-Mar-2023 00:05 | 253 | |