Name | Last modified | Size | Description | |
---|---|---|---|---|
Parent Directory | - | |||
install-out.txt | 12-Jun-2024 04:42 | 1.3K | ||
install-summary.dcf | 12-Jun-2024 04:42 | 263 | ||
buildsrc-out.txt | 12-Jun-2024 04:42 | 1.1K | ||
buildsrc-summary.dcf | 12-Jun-2024 04:42 | 419 | ||
checksrc-summary.dcf | 12-Jun-2024 04:42 | 433 | ||
checksrc-out.txt | 12-Jun-2024 04:42 | 4.1K | ||
buildbin-out.txt | 12-Jun-2024 04:42 | 1.5K | ||
buildbin-summary.dcf | 12-Jun-2024 04:42 | 513 | ||