Name | Last modified | Size | Description | |
---|---|---|---|---|
Parent Directory | - | |||
install-summary.dcf | 01-Jun-2024 08:30 | 263 | ||
install-out.txt | 01-Jun-2024 08:30 | 19M | ||
buildsrc-out.txt | 01-Jun-2024 08:30 | 916 | ||
buildsrc-summary.dcf | 01-Jun-2024 08:30 | 441 | ||
checksrc-out.txt | 01-Jun-2024 08:30 | 4.7K | ||
checksrc-summary.dcf | 01-Jun-2024 08:30 | 440 | ||
buildbin-summary.dcf | 01-Jun-2024 08:30 | 498 | ||
buildbin-out.txt | 01-Jun-2024 08:30 | 19M | ||