Name | Last modified | Size | Description | |
---|---|---|---|---|
Parent Directory | - | |||
buildbin-out.txt | 12-Jul-2024 01:01 | 16K | ||
buildbin-summary.dcf | 12-Jul-2024 01:01 | 513 | ||
buildsrc-out.txt | 12-Jul-2024 01:01 | 897 | ||
buildsrc-summary.dcf | 12-Jul-2024 01:01 | 419 | ||
checksrc-out.txt | 12-Jul-2024 01:01 | 4.4K | ||
checksrc-summary.dcf | 12-Jul-2024 01:01 | 431 | ||
install-out.txt | 12-Jul-2024 01:01 | 14K | ||
install-summary.dcf | 12-Jul-2024 01:01 | 263 | ||