Name | Last modified | Size | Description | |
---|---|---|---|---|
Parent Directory | - | |||
buildbin-summary.dcf | 28-Jul-2024 00:40 | 499 | ||
buildbin-out.txt | 28-Jul-2024 00:40 | 1.1K | ||
checksrc-summary.dcf | 28-Jul-2024 00:40 | 437 | ||
checksrc-out.txt | 28-Jul-2024 00:40 | 44K | ||
buildsrc-summary.dcf | 28-Jul-2024 00:40 | 443 | ||
buildsrc-out.txt | 28-Jul-2024 00:40 | 888 | ||
install-summary.dcf | 28-Jul-2024 00:40 | 263 | ||
install-out.txt | 28-Jul-2024 00:40 | 965 | ||