Name | Last modified | Size | Description | |
---|---|---|---|---|
Parent Directory | - | |||
buildsrc-out.txt | 28-Jul-2024 00:39 | 884 | ||
buildsrc-summary.dcf | 28-Jul-2024 00:39 | 416 | ||
checksrc-out.txt | 28-Jul-2024 00:39 | 44K | ||
checksrc-summary.dcf | 28-Jul-2024 00:39 | 404 | ||
install-out.txt | 28-Jul-2024 00:39 | 954 | ||
install-summary.dcf | 28-Jul-2024 00:39 | 254 | ||