Name | Last modified | Size | Description | |
---|---|---|---|---|
Parent Directory | - | |||
install-summary.dcf | 07-Jul-2024 00:44 | 242 | ||
checksrc-summary.dcf | 09-Jul-2024 00:45 | 395 | ||
buildsrc-summary.dcf | 09-Jul-2024 00:45 | 398 | ||
buildsrc-out.txt | 09-Jul-2024 00:45 | 848 | ||
install-out.txt | 07-Jul-2024 00:44 | 936 | ||
checksrc-out.txt | 09-Jul-2024 00:45 | 44K | ||