Back to Multiple platform build/check report for BioC 3.13 |
|
This page was generated on 2021-01-25 12:37:24 -0500 (Mon, 25 Jan 2021).
TO THE DEVELOPERS/MAINTAINERS OF THE R4RNA PACKAGE: Please make sure to use the following settings in order to reproduce any error or warning you see on this page. |
Package 1412/1938 | Hostname | OS / Arch | INSTALL | BUILD | CHECK | BUILD BIN | ||||||
R4RNA 1.19.0 Daniel Lai
| malbec2 | Linux (Ubuntu 20.04.1 LTS) / x86_64 | OK | OK | OK | ![]() | ||||||
tokay2 | Windows Server 2012 R2 Standard / x64 | OK | OK | [ OK ] | OK | ![]() | ||||||
riesling1 | Windows Server 2019 Standard / x64 | OK | OK | OK | OK | |||||||
machv2 | macOS 10.14.6 Mojave / x86_64 | OK | OK | OK | OK | ![]() |
Package: R4RNA |
Version: 1.19.0 |
Command: C:\Users\biocbuild\bbs-3.13-bioc\R\bin\R.exe CMD check --force-multiarch --install=check:R4RNA.install-out.txt --library=C:\Users\biocbuild\bbs-3.13-bioc\R\library --no-vignettes --timings R4RNA_1.19.0.tar.gz |
StartedAt: 2021-01-25 07:50:27 -0500 (Mon, 25 Jan 2021) |
EndedAt: 2021-01-25 07:52:25 -0500 (Mon, 25 Jan 2021) |
EllapsedTime: 118.1 seconds |
RetCode: 0 |
Status: OK |
CheckDir: R4RNA.Rcheck |
Warnings: 0 |
############################################################################## ############################################################################## ### ### Running command: ### ### C:\Users\biocbuild\bbs-3.13-bioc\R\bin\R.exe CMD check --force-multiarch --install=check:R4RNA.install-out.txt --library=C:\Users\biocbuild\bbs-3.13-bioc\R\library --no-vignettes --timings R4RNA_1.19.0.tar.gz ### ############################################################################## ############################################################################## * using log directory 'C:/Users/biocbuild/bbs-3.13-bioc/meat/R4RNA.Rcheck' * using R Under development (unstable) (2021-01-05 r79797) * using platform: x86_64-w64-mingw32 (64-bit) * using session charset: ISO8859-1 * using option '--no-vignettes' * checking for file 'R4RNA/DESCRIPTION' ... OK * checking extension type ... Package * this is package 'R4RNA' version '1.19.0' * checking package namespace information ... OK * checking package dependencies ... OK * checking if this is a source package ... OK * checking if there is a namespace ... OK * checking for hidden files and directories ... OK * checking for portable file names ... OK * checking whether package 'R4RNA' can be installed ... OK * checking installed package size ... OK * checking package directory ... OK * checking 'build' directory ... OK * checking DESCRIPTION meta-information ... OK * checking top-level files ... OK * checking for left-over files ... OK * checking index information ... OK * checking package subdirectories ... OK * checking R files for non-ASCII characters ... OK * checking R files for syntax errors ... OK * loading checks for arch 'i386' ** checking whether the package can be loaded ... OK ** checking whether the package can be loaded with stated dependencies ... OK ** checking whether the package can be unloaded cleanly ... OK ** checking whether the namespace can be loaded with stated dependencies ... OK ** checking whether the namespace can be unloaded cleanly ... OK * loading checks for arch 'x64' ** checking whether the package can be loaded ... OK ** checking whether the package can be loaded with stated dependencies ... OK ** checking whether the package can be unloaded cleanly ... OK ** checking whether the namespace can be loaded with stated dependencies ... OK ** checking whether the namespace can be unloaded cleanly ... OK * checking dependencies in R code ... OK * checking S3 generic/method consistency ... OK * checking replacement functions ... OK * checking foreign function calls ... OK * checking R code for possible problems ... NOTE alignmentCanonical: no visible global function definition for 'is' alignmentConservation: no visible global function definition for 'is' alignmentCovariation: no visible global function definition for 'is' alignmentPercentGaps: no visible global function definition for 'is' arc: no visible global function definition for 'lines' baseConservation: no visible global function definition for 'is' basepairCanonical: no visible global function definition for 'is' basepairConservation: no visible global function definition for 'is' basepairCovariation: no visible global function definition for 'is' blankPlot: no visible global function definition for 'par' blankPlot: no visible global function definition for 'abline' colourByCanonical: no visible global function definition for 'is' colourByConservation: no visible global function definition for 'is' colourByCovariation: no visible global function definition for 'is' getBaseColours: no visible global function definition for 'is' getCovarianceColours: no visible global function definition for 'is' getSequenceColour: no visible global function definition for 'is' helixCanonical: no visible global function definition for 'is' helixConservation: no visible global function definition for 'is' helixCovariation: no visible global function definition for 'is' isConflictingHelix: no visible global function definition for 'aggregate' isDuplicatingHelix: no visible global function definition for 'aggregate' isOverlappingHelix: no visible global function definition for 'aggregate' plotArc: no visible global function definition for 'lines' plotArrow: no visible global function definition for 'polygon' plotCovariance: no visible global function definition for 'is' plotCovarianceGrid: no visible global function definition for 'rect' plotCovarianceLine: no visible global function definition for 'segments' plotDoubleCovariance: no visible global function definition for 'is' plotDoubleHelix: no visible global function definition for 'lines' plotHelix: no visible global function definition for 'lines' plotOverlapCovariance: no visible global function definition for 'is' plotOverlapHelix: no visible global function definition for 'lines' plotScale: no visible global function definition for 'strheight' plotScale: no visible global function definition for 'segments' plotScale: no visible global function definition for 'text' readConnect: no visible global function definition for 'read.delim' readHelix: no visible global function definition for 'read.delim' structureMismatchScore: no visible global function definition for 'is' writeHelix: no visible global function definition for 'write.table' Undefined global functions or variables: abline aggregate is lines par polygon read.delim rect segments strheight text write.table Consider adding importFrom("graphics", "abline", "lines", "par", "polygon", "rect", "segments", "strheight", "text") importFrom("methods", "is") importFrom("stats", "aggregate") importFrom("utils", "read.delim", "write.table") to your NAMESPACE file (and ensure that your DESCRIPTION Imports field contains 'methods'). * checking Rd files ... OK * checking Rd metadata ... OK * checking Rd cross-references ... OK * checking for missing documentation entries ... OK * checking for code/documentation mismatches ... OK * checking Rd \usage sections ... OK * checking Rd contents ... OK * checking for unstated dependencies in examples ... OK * checking contents of 'data' directory ... OK * checking data for non-ASCII characters ... OK * checking data for ASCII and uncompressed saves ... OK * checking files in 'vignettes' ... OK * checking examples ... ** running examples for arch 'i386' ... OK ** running examples for arch 'x64' ... OK * checking for unstated dependencies in vignettes ... OK * checking package vignettes in 'inst/doc' ... OK * checking running R code from vignettes ... SKIPPED * checking re-building of vignette outputs ... SKIPPED * checking PDF version of manual ... OK * DONE Status: 1 NOTE See 'C:/Users/biocbuild/bbs-3.13-bioc/meat/R4RNA.Rcheck/00check.log' for details.
R4RNA.Rcheck/00install.out
############################################################################## ############################################################################## ### ### Running command: ### ### C:\cygwin\bin\curl.exe -O https://malbec2.bioconductor.org/BBS/3.13/bioc/src/contrib/R4RNA_1.19.0.tar.gz && rm -rf R4RNA.buildbin-libdir && mkdir R4RNA.buildbin-libdir && C:\Users\biocbuild\bbs-3.13-bioc\R\bin\R.exe CMD INSTALL --merge-multiarch --build --library=R4RNA.buildbin-libdir R4RNA_1.19.0.tar.gz && C:\Users\biocbuild\bbs-3.13-bioc\R\bin\R.exe CMD INSTALL R4RNA_1.19.0.zip && rm R4RNA_1.19.0.tar.gz R4RNA_1.19.0.zip ### ############################################################################## ############################################################################## % Total % Received % Xferd Average Speed Time Time Time Current Dload Upload Total Spent Left Speed 0 0 0 0 0 0 0 0 --:--:-- --:--:-- --:--:-- 0 100 38505 100 38505 0 0 77558 0 --:--:-- --:--:-- --:--:-- 78581 install for i386 * installing *source* package 'R4RNA' ... ** using staged installation ** R ** data ** inst ** byte-compile and prepare package for lazy loading ** help *** installing help indices converting help for package 'R4RNA' finding HTML links ... done R4RNA-package html REDIRECT:topic R4RNA -> R4RNA-package.html [ SUCCESS ] REDIRECT:topic R4RNA-package -> R4RNA-package.html [ SUCCESS ] alignmentStatistics html REDIRECT:topic baseConservation -> alignmentStatistics.html [ SUCCESS ] REDIRECT:topic basepairCanonical -> alignmentStatistics.html [ SUCCESS ] REDIRECT:topic basepairConservation -> alignmentStatistics.html [ SUCCESS ] REDIRECT:topic basepairCovariation -> alignmentStatistics.html [ SUCCESS ] REDIRECT:topic helixCanonical -> alignmentStatistics.html [ SUCCESS ] REDIRECT:topic helixConservation -> alignmentStatistics.html [ SUCCESS ] REDIRECT:topic helixCovariation -> alignmentStatistics.html [ SUCCESS ] REDIRECT:topic alignmentConservation -> alignmentStatistics.html [ SUCCESS ] REDIRECT:topic alignmentCovariation -> alignmentStatistics.html [ SUCCESS ] REDIRECT:topic alignmentCanonical -> alignmentStatistics.html [ SUCCESS ] REDIRECT:topic alignmentPercentGaps -> alignmentStatistics.html [ SUCCESS ] REDIRECT:file alignmentStatistics.html -> alignmentStatistics.html [ SUCCESS ] as.helix html REDIRECT:topic as.helix -> as.helix.html [ SUCCESS ] REDIRECT:topic is.helix -> as.helix.html [ SUCCESS ] REDIRECT:topic parseBracket -> as.helix.html [ SUCCESS ] basepairFrequency html REDIRECT:topic basepairFrequency -> basepairFrequency.html [ SUCCESS ] blankPlot html REDIRECT:topic blankPlot -> blankPlot.html [ SUCCESS ] REDIRECT:topic maxHeight -> blankPlot.html [ SUCCESS ] colourHelices html REDIRECT:topic colourByCount -> colourHelices.html [ SUCCESS ] REDIRECT:topic colourByValue -> colourHelices.html [ SUCCESS ] REDIRECT:topic colourByConservation -> colourHelices.html [ SUCCESS ] REDIRECT:topic colourByCovariation -> colourHelices.html [ SUCCESS ] REDIRECT:topic colourByCanonical -> colourHelices.html [ SUCCESS ] REDIRECT:topic colourByBasepairFrequency -> colourHelices.html [ SUCCESS ] REDIRECT:topic colourByUnknottedGroups -> colourHelices.html [ SUCCESS ] REDIRECT:topic defaultPalette -> colourHelices.html [ SUCCESS ] REDIRECT:file colourHelices.html -> colourHelices.html [ SUCCESS ] expandCollapseHelix html REDIRECT:topic expandHelix -> expandCollapseHelix.html [ SUCCESS ] REDIRECT:topic collapseHelix -> expandCollapseHelix.html [ SUCCESS ] REDIRECT:file expandCollapseHelix.html -> expandCollapseHelix.html [ SUCCESS ] helix html REDIRECT:topic helix -> helix.html [ SUCCESS ] REDIRECT:topic fasta -> helix.html [ SUCCESS ] REDIRECT:topic known -> helix.html [ SUCCESS ] logicalHelix html REDIRECT:topic isConflictingHelix -> logicalHelix.html [ SUCCESS ] REDIRECT:topic isDuplicatingHelix -> logicalHelix.html [ SUCCESS ] REDIRECT:topic isOverlappingHelix -> logicalHelix.html [ SUCCESS ] REDIRECT:file logicalHelix.html -> logicalHelix.html [ SUCCESS ] logseq html REDIRECT:topic logseq -> logseq.html [ SUCCESS ] REDIRECT:topic logfloor -> logseq.html [ SUCCESS ] REDIRECT:topic logceiling -> logseq.html [ SUCCESS ] plotCovariance html REDIRECT:topic plotCovariance -> plotCovariance.html [ SUCCESS ] REDIRECT:topic plotDoubleCovariance -> plotCovariance.html [ SUCCESS ] REDIRECT:topic plotOverlapCovariance -> plotCovariance.html [ SUCCESS ] plotHelix html REDIRECT:topic plotHelix -> plotHelix.html [ SUCCESS ] REDIRECT:topic plotDoubleHelix -> plotHelix.html [ SUCCESS ] REDIRECT:topic plotOverlapHelix -> plotHelix.html [ SUCCESS ] REDIRECT:topic plotArcs -> plotHelix.html [ SUCCESS ] REDIRECT:topic plotArc -> plotHelix.html [ SUCCESS ] readStructure html REDIRECT:topic readHelix -> readStructure.html [ SUCCESS ] REDIRECT:topic readConnect -> readStructure.html [ SUCCESS ] REDIRECT:topic readVienna -> readStructure.html [ SUCCESS ] REDIRECT:topic readBpseq -> readStructure.html [ SUCCESS ] REDIRECT:file readStructure.html -> readStructure.html [ SUCCESS ] structureMismatchScore html REDIRECT:topic structureMismatchScore -> structureMismatchScore.html [ SUCCESS ] unknottedGroups html REDIRECT:topic unknottedGroups -> unknottedGroups.html [ SUCCESS ] viennaToHelix html REDIRECT:topic viennaToHelix -> viennaToHelix.html [ SUCCESS ] REDIRECT:topic helixToVienna -> viennaToHelix.html [ SUCCESS ] REDIRECT:topic helixToConnect -> viennaToHelix.html [ SUCCESS ] REDIRECT:topic helixToBpseq -> viennaToHelix.html [ SUCCESS ] writeHelix html REDIRECT:topic writeHelix -> writeHelix.html [ SUCCESS ] ** building package indices ** installing vignettes ** testing if installed package can be loaded from temporary location ** testing if installed package can be loaded from final location ** testing if installed package keeps a record of temporary installation path install for x64 * installing *source* package 'R4RNA' ... ** testing if installed package can be loaded * MD5 sums packaged installation of 'R4RNA' as R4RNA_1.19.0.zip * DONE (R4RNA) * installing to library 'C:/Users/biocbuild/bbs-3.13-bioc/R/library' package 'R4RNA' successfully unpacked and MD5 sums checked
R4RNA.Rcheck/examples_i386/R4RNA-Ex.timings
|
R4RNA.Rcheck/examples_x64/R4RNA-Ex.timings
|