Back to Multiple platform build/check report for BioC 3.13
ABCDEFGHIJKLMNOPQ[R]STUVWXYZ

BUILD report for R4RNA on riesling1

This page was generated on 2021-01-25 12:40:36 -0500 (Mon, 25 Jan 2021).

TO THE DEVELOPERS/MAINTAINERS OF THE R4RNA PACKAGE: Please make sure to use the following settings in order to reproduce any error or warning you see on this page.
Package 1412/1938HostnameOS / ArchINSTALLBUILDCHECKBUILD BIN
R4RNA 1.19.0
Daniel Lai
Snapshot Date: 2021-01-24 14:40:26 -0500 (Sun, 24 Jan 2021)
URL: https://git.bioconductor.org/packages/R4RNA
Branch: master
Last Commit: ba7bf7c
Last Changed Date: 2020-10-27 11:09:25 -0500 (Tue, 27 Oct 2020)
malbec2 Linux (Ubuntu 20.04.1 LTS) / x86_64  OK  OK  OK UNNEEDED, same version exists in internal repository
tokay2 Windows Server 2012 R2 Standard / x64  OK  OK  OK  OK UNNEEDED, same version exists in internal repository
riesling1 Windows Server 2019 Standard / x64  OK [ OK ] OK  OK 
machv2 macOS 10.14.6 Mojave / x86_64  OK  OK  OK  OK UNNEEDED, same version exists in internal repository

Summary

Package: R4RNA
Version: 1.19.0
Command: chmod a+r R4RNA -R && D:\biocbuild\bbs-3.13-bioc\R\bin\R.exe CMD build --keep-empty-dirs --no-resave-data R4RNA
StartedAt: 2021-01-24 18:52:39 -0500 (Sun, 24 Jan 2021)
EndedAt: 2021-01-24 18:53:03 -0500 (Sun, 24 Jan 2021)
EllapsedTime: 23.6 seconds
RetCode: 0
Status:  OK  
PackageFile: R4RNA_1.19.0.tar.gz
PackageFileSize: 823.4 KiB

Command output

##############################################################################
##############################################################################
###
### Running command:
###
###   chmod a+r R4RNA -R && D:\biocbuild\bbs-3.13-bioc\R\bin\R.exe CMD build --keep-empty-dirs --no-resave-data R4RNA
###
##############################################################################
##############################################################################


* checking for file 'R4RNA/DESCRIPTION' ... OK
* preparing 'R4RNA':
* checking DESCRIPTION meta-information ... OK
* installing the package to build vignettes
* creating vignettes ... OK
* checking for LF line-endings in source and make files and shell scripts
* checking for empty or unneeded directories
* looking to see if a 'data/datalist' file should be added
* building 'R4RNA_1.19.0.tar.gz'