Back to Multiple platform build/check report for BioC 3.13
ABCDEFGHIJKLMNOPQ[R]STUVWXYZ

CHECK report for R4RNA on malbec2

This page was generated on 2021-01-24 12:31:15 -0500 (Sun, 24 Jan 2021).

TO THE DEVELOPERS/MAINTAINERS OF THE R4RNA PACKAGE: Please make sure to use the following settings in order to reproduce any error or warning you see on this page.
Package 1408/1932HostnameOS / ArchINSTALLBUILDCHECKBUILD BIN
R4RNA 1.19.0
Daniel Lai
Snapshot Date: 2021-01-23 14:40:18 -0500 (Sat, 23 Jan 2021)
URL: https://git.bioconductor.org/packages/R4RNA
Branch: master
Last Commit: ba7bf7c
Last Changed Date: 2020-10-27 11:09:25 -0500 (Tue, 27 Oct 2020)
malbec2 Linux (Ubuntu 20.04.1 LTS) / x86_64  OK  OK [ OK ]UNNEEDED, same version exists in internal repository
tokay2 Windows Server 2012 R2 Standard / x64  OK  OK  OK  OK UNNEEDED, same version exists in internal repository
riesling1 Windows Server 2019 Standard / x64  OK  OK  OK  OK 
machv2 macOS 10.14.6 Mojave / x86_64  OK  OK  OK  OK UNNEEDED, same version exists in internal repository

Summary

Package: R4RNA
Version: 1.19.0
Command: /home/biocbuild/bbs-3.13-bioc/R/bin/R CMD check --install=check:R4RNA.install-out.txt --library=/home/biocbuild/bbs-3.13-bioc/R/library --no-vignettes --timings R4RNA_1.19.0.tar.gz
StartedAt: 2021-01-24 04:31:32 -0500 (Sun, 24 Jan 2021)
EndedAt: 2021-01-24 04:32:57 -0500 (Sun, 24 Jan 2021)
EllapsedTime: 85.4 seconds
RetCode: 0
Status:  OK 
CheckDir: R4RNA.Rcheck
Warnings: 0

Command output

##############################################################################
##############################################################################
###
### Running command:
###
###   /home/biocbuild/bbs-3.13-bioc/R/bin/R CMD check --install=check:R4RNA.install-out.txt --library=/home/biocbuild/bbs-3.13-bioc/R/library --no-vignettes --timings R4RNA_1.19.0.tar.gz
###
##############################################################################
##############################################################################


* using log directory ‘/home/biocbuild/bbs-3.13-bioc/meat/R4RNA.Rcheck’
* using R Under development (unstable) (2021-01-05 r79797)
* using platform: x86_64-pc-linux-gnu (64-bit)
* using session charset: UTF-8
* using option ‘--no-vignettes’
* checking for file ‘R4RNA/DESCRIPTION’ ... OK
* checking extension type ... Package
* this is package ‘R4RNA’ version ‘1.19.0’
* checking package namespace information ... OK
* checking package dependencies ... OK
* checking if this is a source package ... OK
* checking if there is a namespace ... OK
* checking for hidden files and directories ... NOTE
Found the following hidden files and directories:
  .git_fetch_output.txt
  .git_merge_output.txt
These were most likely included in error. See section ‘Package
structure’ in the ‘Writing R Extensions’ manual.
* checking for portable file names ... OK
* checking for sufficient/correct file permissions ... OK
* checking whether package ‘R4RNA’ can be installed ... OK
* checking installed package size ... OK
* checking package directory ... OK
* checking ‘build’ directory ... OK
* checking DESCRIPTION meta-information ... OK
* checking top-level files ... OK
* checking for left-over files ... OK
* checking index information ... OK
* checking package subdirectories ... OK
* checking R files for non-ASCII characters ... OK
* checking R files for syntax errors ... OK
* checking whether the package can be loaded ... OK
* checking whether the package can be loaded with stated dependencies ... OK
* checking whether the package can be unloaded cleanly ... OK
* checking whether the namespace can be loaded with stated dependencies ... OK
* checking whether the namespace can be unloaded cleanly ... OK
* checking dependencies in R code ... OK
* checking S3 generic/method consistency ... OK
* checking replacement functions ... OK
* checking foreign function calls ... OK
* checking R code for possible problems ... NOTE
alignmentCanonical: no visible global function definition for ‘is’
alignmentConservation: no visible global function definition for ‘is’
alignmentCovariation: no visible global function definition for ‘is’
alignmentPercentGaps: no visible global function definition for ‘is’
arc: no visible global function definition for ‘lines’
baseConservation: no visible global function definition for ‘is’
basepairCanonical: no visible global function definition for ‘is’
basepairConservation: no visible global function definition for ‘is’
basepairCovariation: no visible global function definition for ‘is’
blankPlot: no visible global function definition for ‘par’
blankPlot: no visible global function definition for ‘abline’
colourByCanonical: no visible global function definition for ‘is’
colourByConservation: no visible global function definition for ‘is’
colourByCovariation: no visible global function definition for ‘is’
getBaseColours: no visible global function definition for ‘is’
getCovarianceColours: no visible global function definition for ‘is’
getSequenceColour: no visible global function definition for ‘is’
helixCanonical: no visible global function definition for ‘is’
helixConservation: no visible global function definition for ‘is’
helixCovariation: no visible global function definition for ‘is’
isConflictingHelix: no visible global function definition for
  ‘aggregate’
isDuplicatingHelix: no visible global function definition for
  ‘aggregate’
isOverlappingHelix: no visible global function definition for
  ‘aggregate’
plotArc: no visible global function definition for ‘lines’
plotArrow: no visible global function definition for ‘polygon’
plotCovariance: no visible global function definition for ‘is’
plotCovarianceGrid: no visible global function definition for ‘rect’
plotCovarianceLine: no visible global function definition for
  ‘segments’
plotDoubleCovariance: no visible global function definition for ‘is’
plotDoubleHelix: no visible global function definition for ‘lines’
plotHelix: no visible global function definition for ‘lines’
plotOverlapCovariance: no visible global function definition for ‘is’
plotOverlapHelix: no visible global function definition for ‘lines’
plotScale: no visible global function definition for ‘strheight’
plotScale: no visible global function definition for ‘segments’
plotScale: no visible global function definition for ‘text’
readConnect: no visible global function definition for ‘read.delim’
readHelix: no visible global function definition for ‘read.delim’
structureMismatchScore: no visible global function definition for ‘is’
writeHelix: no visible global function definition for ‘write.table’
Undefined global functions or variables:
  abline aggregate is lines par polygon read.delim rect segments
  strheight text write.table
Consider adding
  importFrom("graphics", "abline", "lines", "par", "polygon", "rect",
             "segments", "strheight", "text")
  importFrom("methods", "is")
  importFrom("stats", "aggregate")
  importFrom("utils", "read.delim", "write.table")
to your NAMESPACE file (and ensure that your DESCRIPTION Imports field
contains 'methods').
* checking Rd files ... OK
* checking Rd metadata ... OK
* checking Rd cross-references ... OK
* checking for missing documentation entries ... OK
* checking for code/documentation mismatches ... OK
* checking Rd \usage sections ... OK
* checking Rd contents ... OK
* checking for unstated dependencies in examples ... OK
* checking contents of ‘data’ directory ... OK
* checking data for non-ASCII characters ... OK
* checking data for ASCII and uncompressed saves ... OK
* checking files in ‘vignettes’ ... OK
* checking examples ... OK
* checking for unstated dependencies in vignettes ... OK
* checking package vignettes in ‘inst/doc’ ... OK
* checking running R code from vignettes ... SKIPPED
* checking re-building of vignette outputs ... SKIPPED
* checking PDF version of manual ... OK
* DONE

Status: 2 NOTEs
See
  ‘/home/biocbuild/bbs-3.13-bioc/meat/R4RNA.Rcheck/00check.log’
for details.



Installation output

R4RNA.Rcheck/00install.out

##############################################################################
##############################################################################
###
### Running command:
###
###   /home/biocbuild/bbs-3.13-bioc/R/bin/R CMD INSTALL R4RNA
###
##############################################################################
##############################################################################


* installing to library ‘/home/biocbuild/bbs-3.13-bioc/R/library’
* installing *source* package ‘R4RNA’ ...
** using staged installation
** R
** data
** inst
** byte-compile and prepare package for lazy loading
** help
*** installing help indices
** building package indices
** installing vignettes
** testing if installed package can be loaded from temporary location
** testing if installed package can be loaded from final location
** testing if installed package keeps a record of temporary installation path
* DONE (R4RNA)

Tests output


Example timings

R4RNA.Rcheck/R4RNA-Ex.timings

nameusersystemelapsed
R4RNA-package2.1280.0552.189
alignmentStatistics0.7270.0000.727
as.helix0.0020.0000.002
basepairFrequency0.0070.0030.011
blankPlot0.0620.0040.066
colourHelices0.4360.0080.445
expandCollapseHelix0.0080.0030.011
logicalHelix0.7260.0040.731
logseq0.0010.0000.000
plotCovariance0.8480.0080.856
plotHelix0.9730.0200.992
readStructure0.0460.0000.046
structureMismatchScore0.0050.0000.005
unknottedGroups0.0310.0000.031
viennaToHelix0.080.000.08
writeHelix0.0030.0000.003