Back to Multiple platform build/check report for BioC 3.13
ABCDEFGHIJKLMNOPQ[R]STUVWXYZ

BUILD BIN report for R4RNA on machv2

This page was generated on 2021-01-25 12:43:48 -0500 (Mon, 25 Jan 2021).

TO THE DEVELOPERS/MAINTAINERS OF THE R4RNA PACKAGE: Please make sure to use the following settings in order to reproduce any error or warning you see on this page.
Package 1412/1938HostnameOS / ArchINSTALLBUILDCHECKBUILD BIN
R4RNA 1.19.0
Daniel Lai
Snapshot Date: 2021-01-24 14:40:26 -0500 (Sun, 24 Jan 2021)
URL: https://git.bioconductor.org/packages/R4RNA
Branch: master
Last Commit: ba7bf7c
Last Changed Date: 2020-10-27 11:09:25 -0500 (Tue, 27 Oct 2020)
malbec2 Linux (Ubuntu 20.04.1 LTS) / x86_64  OK  OK  OK UNNEEDED, same version exists in internal repository
tokay2 Windows Server 2012 R2 Standard / x64  OK  OK  OK  OK UNNEEDED, same version exists in internal repository
riesling1 Windows Server 2019 Standard / x64  OK  OK  OK  OK 
machv2 macOS 10.14.6 Mojave / x86_64  OK  OK  OK [ OK ]UNNEEDED, same version exists in internal repository

Summary

Package: R4RNA
Version: 1.19.0
Command: rm -rf R4RNA.buildbin-libdir && mkdir R4RNA.buildbin-libdir && /Users/biocbuild/BBS/utils/build-universal.sh R4RNA_1.19.0.tar.gz /Library/Frameworks/R.framework/Versions/Current/Resources/bin/R R4RNA.buildbin-libdir
StartedAt: 2021-01-25 06:50:29 -0500 (Mon, 25 Jan 2021)
EndedAt: 2021-01-25 06:50:49 -0500 (Mon, 25 Jan 2021)
EllapsedTime: 19.8 seconds
RetCode: 0
Status:  OK 
PackageFile: R4RNA_1.19.0.tgz
PackageFileSize: 963.9 KiB

Command output

##############################################################################
##############################################################################
###
### Running command:
###
###   rm -rf R4RNA.buildbin-libdir && mkdir R4RNA.buildbin-libdir && /Users/biocbuild/BBS/utils/build-universal.sh R4RNA_1.19.0.tar.gz /Library/Frameworks/R.framework/Versions/Current/Resources/bin/R R4RNA.buildbin-libdir
###
##############################################################################
##############################################################################


>>>>>>> 
>>>>>>> INSTALLATION WITH 'R CMD INSTALL --preclean --no-multiarch --library=R4RNA.buildbin-libdir R4RNA_1.19.0.tar.gz'
>>>>>>> 

* installing *source* package ‘R4RNA’ ...
** using staged installation
** R
** data
** inst
** byte-compile and prepare package for lazy loading
** help
*** installing help indices
** building package indices
** installing vignettes
** testing if installed package can be loaded from temporary location
** testing if installed package can be loaded from final location
** testing if installed package keeps a record of temporary installation path
* DONE (R4RNA)