Back to Multiple platform build/check report for BioC 3.15
ABCDEFGHIJKLMNOPQ[R]STUVWXYZ

This page was generated on 2022-01-22 11:07:33 -0500 (Sat, 22 Jan 2022).

HostnameOSArch (*)R versionInstalled pkgs
nebbiolo1Linux (Ubuntu 20.04.4 LTS)x86_64R Under development (unstable) (2022-01-05 r81451) -- "Unsuffered Consequences" 4163
riesling1Windows Server 2019 Standardx64R Under development (unstable) (2021-11-21 r81221) -- "Unsuffered Consequences" 4058
palomino3Windows Server 2022 Datacenterx64R Under development (unstable) (2021-12-21 r81400 ucrt) -- "Unsuffered Consequences" 4000
merida1macOS 10.14.6 Mojavex86_64R Under development (unstable) (2022-01-05 r81451) -- "Unsuffered Consequences" 4117
Click on any hostname to see more info about the system (e.g. compilers)      (*) as reported by 'uname -p', except on Windows and Mac OS X

INSTALL results for R453Plus1Toolbox on riesling1


To the developers/maintainers of the R453Plus1Toolbox package:
- Please allow up to 24 hours (and sometimes 48 hours) for your latest push to git@git.bioconductor.org:packages/R453Plus1Toolbox.git to
reflect on this report. See How and When does the builder pull? When will my changes propagate? here for more information.
- Make sure to use the following settings in order to reproduce any error or warning you see on this page.

raw results

Package 1511/2075HostnameOS / ArchINSTALLBUILDCHECKBUILD BIN
R453Plus1Toolbox 1.45.0  (landing page)
Hans-Ulrich Klein
Snapshot Date: 2022-01-21 13:55:18 -0500 (Fri, 21 Jan 2022)
git_url: https://git.bioconductor.org/packages/R453Plus1Toolbox
git_branch: master
git_last_commit: a40ef90
git_last_commit_date: 2021-10-26 11:57:24 -0500 (Tue, 26 Oct 2021)
nebbiolo1Linux (Ubuntu 20.04.4 LTS) / x86_64  OK    OK    OK  UNNEEDED, same version is already published
riesling1Windows Server 2019 Standard / x64  OK    OK    NA    NA  
palomino3Windows Server 2022 Datacenter / x64  OK    OK    OK    OK  NO, package depends on 'VariantAnnotation' which is not available
merida1macOS 10.14.6 Mojave / x86_64  OK    OK    OK    OK  UNNEEDED, same version is already published

Summary

Package: R453Plus1Toolbox
Version: 1.45.0
Command: D:\biocbuild\bbs-3.15-bioc\R\bin\R.exe CMD INSTALL R453Plus1Toolbox
StartedAt: 2022-01-21 16:07:56 -0500 (Fri, 21 Jan 2022)
EndedAt: 2022-01-21 16:09:50 -0500 (Fri, 21 Jan 2022)
EllapsedTime: 114.3 seconds
RetCode: 0
Status:   OK  

Command output

##############################################################################
##############################################################################
###
### Running command:
###
###   D:\biocbuild\bbs-3.15-bioc\R\bin\R.exe CMD INSTALL R453Plus1Toolbox
###
##############################################################################
##############################################################################


* installing to library 'D:/biocbuild/bbs-3.15-bioc/R/library'
* installing *source* package 'R453Plus1Toolbox' ...
** using staged installation
** libs
"C:/rtools40/mingw64/bin/"gcc  -I"D:/biocbuild/bbs-3.15-bioc/R/include" -DNDEBUG     -I"C:/extsoft/include"     -O2 -Wall  -std=gnu99 -mfpmath=sse -msse2 -mstackrealign -fno-reorder-blocks-and-partition  -c readSFF.c -o readSFF.o
readSFF.c: In function 'readSFF':
readSFF.c:27:7: warning: variable 'block_count' set but not used [-Wunused-but-set-variable]
   int block_count;
       ^~~~~~~~~~~
"C:/rtools40/mingw64/bin/"gcc  -I"D:/biocbuild/bbs-3.15-bioc/R/include" -DNDEBUG     -I"C:/extsoft/include"     -O2 -Wall  -std=gnu99 -mfpmath=sse -msse2 -mstackrealign -fno-reorder-blocks-and-partition  -c writeSFF.c -o writeSFF.o
C:/rtools40/mingw64/bin/gcc -shared -s -static-libgcc -o R453Plus1Toolbox.dll tmp.def readSFF.o writeSFF.o -LC:/extsoft/lib/x64 -LC:/extsoft/lib -LD:/biocbuild/bbs-3.15-bioc/R/bin/x64 -lR
installing to D:/biocbuild/bbs-3.15-bioc/R/library/00LOCK-R453Plus1Toolbox/00new/R453Plus1Toolbox/libs/x64
** R
** data
** inst
** byte-compile and prepare package for lazy loading
** help
*** installing help indices
  converting help for package 'R453Plus1Toolbox'
    finding HTML links ... done
    AVASet-class                            html  
    finding level-2 HTML links ... done

    AVASet                                  html  
    AnnotatedVariants-class                 html  
    Breakpoints-class                       html  
    MapperSet-class                         html  
    MapperSet                               html  
    SFFContainer-class                      html  
    SFFRead-class                           html  
    alignShortReads                         html  
    annotateVariants                        html  
    assayDataAmp                            html  
    ava2vcf                                 html  
    avaSetExample                           html  
    avaSetFiltered                          html  
    avaSetFiltered_annot                    html  
    baseFrequency                           html  
    baseQualityHist                         html  
    baseQualityStats                        html  
    breakpoints                             html  
    calculateTiTv                           html  
    captureArray                            html  
    complexity.dust                         html  
    complexity.entropy                      html  
    convertCigar                            html  
    coverageOnTarget                        html  
    demultiplexReads                        html  
    detectBreakpoints                       html  
    dinucleotideOddsRatio                   html  
    fDataAmp                                html  
    featureDataAmp                          html  
    filterChimericReads                     html  
    flowgramBarplot                         html  
    gcContent                               html  
    gcContentHist                           html  
    gcPerPosition                           html  
    genomeSequencerMIDs                     html  
    getAlignedReads                         html  
    getAminoAbbr                            html  
    getVariantPercentages                   html  
    homopolymerHist                         html  
    htmlReport                              html  
    mapperSetExample                        html  
    mergeBreakpoints                        html  
    mutationInfo                            html  
    nucleotideCharts                        html  
    plotAmpliconCoverage                    html  
    plotChimericReads                       html  
    plotVariants                            html  
    plotVariationFrequency                  html  
    positionQualityBoxplot                  html  
    qualityReportSFF                        html  
    readLengthHist                          html  
    readLengthStats                         html  
    readSFF                                 html  
    readsOnTarget                           html  
    referenceSequences                      html  
    regions                                 html  
    removeLinker                            html  
    sequenceCaptureLinkers                  html  
    sequenceQualityHist                     html  
    setVariantFilter                        html  
    sff2fastq                               html  
    variants                                html  
    writeSFF                                html  
** building package indices
** installing vignettes
** testing if installed package can be loaded from temporary location
** testing if installed package can be loaded from final location
** testing if installed package keeps a record of temporary installation path
* DONE (R453Plus1Toolbox)
Making 'packages.html' ... done